Workbook

Sheet عن النموذج
B2: النموذج المالي لدراسة الجدوى
B3: إعداد | C3: شركة جوجان لخدمات الأعمال، قسم الدراسات والاستشارات
B4: الموقع | C4: googanconsult.com
B5: موسوعة جوجان | C5: شرح طريقة الاستخدام خطوة بخطوة في موسوعة جوجان – bloggoogan.com
B6: الاستخدام | C6: مجاني للاستخدام الشخصي والتعليمي ولإعداد دراسات مشاريعكم. يُمنع بيع النموذج أو نسبته إلى غير شركة جوجان.
B7: حقوق الملكية | C7: © شركة جوجان لخدمات الأعمال. جميع الحقوق محفوظة. يجب أن يبقى اسم الشركة وموقعها في النموذج وفي أي نسخة منه.
B8: كيف تستخدمه | C8: أولاً: أدخل بياناتك في الخلايا غير المحمية، وهي الملونة بالأصفر غالباً: الكميات والأسعار والرواتب والتكاليف ونسب التشغيل وسنة البداية. ثانياً: خلايا المعادلات محمية حتى لا تنكسر الحسابات، وتتحدث تلقائياً. ثالثاً: راجع النتائج في قائمة الدخل والتدفق النقدي والمركز المالي والمؤشرات المالية.
B9: مهم | C9: الأرقام الموجودة في النموذج أمثلة توضيحية فقط، استبدلها ببيانات مشروعك. ورقة «الحساسية» قيمها ثابتة وتُحدَّث يدوياً. النموذج أداة مساعدة ولا يغني عن دراسة جدوى معدّة من مختصين.
B10: تحتاج دراسة جدوى معتمدة؟ | C10: قسم الدراسات في جوجان يعدّ دراسات الجدوى والملفات التمويلية للمشاريع في السعودية – googanconsult.com
B12: قائمة أوراق النموذج
B13: الإيرادات المالية
B14: تكلفة المباني
B15: تكلفة المعدات
B16: تكلفة السيارات ووسائل النقل
B17: تكلفة الأجهزة واالأثاث
B18: إجمالي الموجودات
B19: م.التأسيس
B20: رأس مال ثابت
B21: رأس المال العامل
B22: رأس المال المستثمر
B23: برنامج سداد القرض
... B49: الحساسية

Sheet الإيرادات المالية
A1: جدول رقم [3-1]
A2: الإيرادات خلال السنوات من 2019 م إلى 2028 م
A3: إعداد شركة جوجان لخدمات الأعمال | D3: googanconsult.com
A4: إسم الصنف | E4: قيمة المبيعات
B5: الكمية (وحده) | C5: السعر السنوي | D5: الإجمالي | E5: 2019 | F5: =E5+1 -> 2020 | G5: =F5+1 -> 2021 | H5: =G5+1 -> 2022 | I5: =H5+1 -> 2023 | J5: =I5+1 -> 2024 | K5: =J5+1 -> 2025 | L5: =K5+1 -> 2026 | M5: =L5+1 -> 2027 | N5: =M5+1 -> 2028
A6: نسب التشغيل | E6: 0.6 | F6: 0.8 | G6: 1 | H6: 1 | I6: 1 | J6: 1 | K6: 1 | L6: 1 | M6: 1 | N6: 1
A7: المحلات التجارية تصنيف 1 | B7: 15 | C7: 3600 | D7: =C7*B7 -> 54000 | E7: =E6*D7 -> 32400 | F7: =D7*F6 -> 43200 | G7: =G6*D7 -> 54000 | H7: =H6*D7 -> 54000 | I7: =H7 -> 54000 | J7: =I7 -> 54000 | K7: =J7 -> 54000 | L7: =K7 -> 54000 | M7: =L7 -> 54000 | N7: =M7 -> 54000
A8: الشقق العلوية | B8: 15 | C8: 1680 | D8: =C8*B8 -> 25200 | E8: =E6*D8 -> 15120 | F8: =F6*D8 -> 20160 | G8: =G6*D8 -> 25200 | H8: =H6*D8 -> 25200 | I8: =H8 -> 25200 | J8: =I8 -> 25200 | K8: =J8 -> 25200 | L8: =K8 -> 25200 | M8: =L8 -> 25200 | N8: =M8 -> 25200
A9: الملاعب | B9: 2 | C9: 28800 | D9: =C9*B9 -> 57600 | E9: =E6*D9 -> 34560 | F9: =F6*D9 -> 46080 | G9: =G6*D9 -> 57600 | H9: =H6*D9 -> 57600 | I9: =H9 -> 57600 | J9: =I9 -> 57600 | K9: =J9 -> 57600 | L9: =K9 -> 57600 | M9: =L9 -> 57600 | N9: =M9 -> 57600
A10: المحلات التجارية تصنيف 2 | B10: 15 | C10: 2400 | D10: =C10*B10 -> 36000 | E10: =E6*D10 -> 21600 | F10: =F6*D10 -> 28800 | G10: =G6*D10 -> 36000 | H10: =H6*D10 -> 36000 | I10: =I6*H10 -> 36000 | J10: =J6*I10 -> 36000 | K10: =K6*J10 -> 36000 | L10: =L6*K10 -> 36000 | M10: =M6*L10 -> 36000 | N10: =N6*M10 -> 36000
A13: مجموع الايرادات من الخدمات والتاجير | D13: =SUM(D7:D12) -> 172800 | E13: =SUM(E7:E12) -> 103680 | F13: =SUM(F7:F12) -> 138240 | G13: =SUM(G7:G12) -> 172800 | H13: =SUM(H7:H12) -> 172800 | I13: =SUM(I7:I12) -> 172800 | J13: =SUM(J7:J12) -> 172800 | K13: =SUM(K7:K12) -> 172800 | ... N13: =SUM(N7:N12) -> 172800

Sheet تكلفة المباني
A1: جدول رقم [3-2]
A2: تكلفة المباني خلال السنوات من 2019م إلى 2028 م
A3: إعداد شركة جوجان لخدمات الأعمال | D3: googanconsult.com | M3: ريال سعودي
A4: البيان | B4: السعر | C4: المساحة | D4: السنوات
A5: المباني | B5: ريال | C5: متر2 | D5: 2019 | E5: =D5+1 -> 2020 | F5: =E5+1 -> 2021 | G5: =F5+1 -> 2022 | H5: =G5+1 -> 2023 | I5: =H5+1 -> 2024 | J5: =I5+1 -> 2025 | K5: =J5+1 -> 2026 | L5: =K5+1 -> 2027 | M5: =L5+1 -> 2028
A6: التكلفة | B6: 500 | C6: 3800 | D6: =B6*C6 -> 1900000 | E6: =D6 -> 1900000 | F6: =E6 -> 1900000 | G6: =F6 -> 1900000 | H6: =G6 -> 1900000 | I6: =H6 -> 1900000 | J6: =I6 -> 1900000 | K6: =J6 -> 1900000 | L6: =K6 -> 1900000 | M6: =L6 -> 1900000
A7: نسبة الإهلاك السنوي | D7: 0.03 | E7: 0.03 | F7: 0.03 | G7: 0.03 | H7: 0.03 | I7: 0.03 | J7: 0.03 | K7: 0.03 | L7: 0.03 | M7: 0.03
A8: الإهلاك السنوي | D8: =D6*D7 -> 57000 | E8: =E6*E7 -> 57000 | F8: =F6*F7 -> 57000 | G8: =G6*G7 -> 57000 | H8: =H6*H7 -> 57000 | I8: =I6*I7 -> 57000 | J8: =J6*J7 -> 57000 | K8: =K6*K7 -> 57000 | ... M8: =M6*M7 -> 57000
A9: الإهلاك التراكمي | D9: =D8 -> 57000 | E9: =D9+E8 -> 114000 | F9: =E9+F8 -> 171000 | G9: =F9+G8 -> 228000 | H9: =G9+H8 -> 285000 | I9: =H9+I8 -> 342000 | J9: =I9+J8 -> 399000 | K9: =J9+K8 -> 456000 | L9: =K9+L8 -> 513000 | M9: =L9+M8 -> 570000
A10: صافي القيمة الدفترية | D10: =D6-D9 -> 1843000 | E10: =E6-E9 -> 1786000 | F10: =F6-F9 -> 1729000 | G10: =G6-G9 -> 1672000 | H10: =H6-H9 -> 1615000 | I10: =I6-I9 -> 1558000 | J10: =J6-J9 -> 1501000 | K10: =K6-K9 -> 1444000 | ... M10: =M6-M9 -> 1330000

Sheet تكلفة المعدات
A1: جدول رقم [3-3]
A2: تكلفة الا خلال السنوات من 2019 م إلى 2028 م
A3: إعداد شركة جوجان لخدمات الأعمال | D3: googanconsult.com | M3: ريال سعودي
A4: البيان | B4: متوسط السعر | C4: الوحدة | D4: السنوات
A5: الملاعب | B5: ريال | C5: معدات | D5: 2019 | E5: =D5+1 -> 2020 | F5: =E5+1 -> 2021 | G5: =F5+1 -> 2022 | H5: =G5+1 -> 2023 | I5: =H5+1 -> 2024 | J5: =I5+1 -> 2025 | K5: =J5+1 -> 2026 | L5: =K5+1 -> 2027 | M5: =L5+1 -> 2028
A6: التكلفة | B6: 100000 | C6: 2 | D6: =B6*C6 -> 200000 | E6: =D6 -> 200000 | F6: =E6 -> 200000 | G6: =F6 -> 200000 | H6: =G6 -> 200000 | I6: =H6 -> 200000 | J6: =I6 -> 200000 | K6: =J6 -> 200000 | L6: =K6 -> 200000 | M6: =L6 -> 200000
A7: نسبة الإهلاك السنوي | D7: 0.1 | E7: 0.1 | F7: 0.1 | G7: 0.1 | H7: 0.1 | I7: 0.1 | J7: 0.1 | K7: 0.1 | L7: 0.1 | M7: 0.1
A8: الإهلاك السنوي | D8: =D6*D7 -> 20000 | E8: =E6*E7 -> 20000 | F8: =F6*F7 -> 20000 | G8: =G6*G7 -> 20000 | H8: =H6*H7 -> 20000 | I8: =I6*I7 -> 20000 | J8: =J6*J7 -> 20000 | K8: =K6*K7 -> 20000 | ... M8: =M6*M7 -> 20000
A9: الإهلاك التراكمي | D9: =D8 -> 20000 | E9: =D9+E8 -> 40000 | F9: =E9+F8 -> 60000 | G9: =F9+G8 -> 80000 | H9: =G9+H8 -> 100000 | I9: =H9+I8 -> 120000 | J9: =I9+J8 -> 140000 | K9: =J9+K8 -> 160000 | L9: =K9+L8 -> 180000 | M9: =L9+M8 -> 200000
A10: صافي القيمة الدفترية | D10: =D6-D9 -> 180000 | E10: =E6-E9 -> 160000 | F10: =F6-F9 -> 140000 | G10: =G6-G9 -> 120000 | H10: =H6-H9 -> 100000 | I10: =I6-I9 -> 80000 | J10: =J6-J9 -> 60000 | K10: =K6-K9 -> 40000 | ... M10: =M6-M9 -> 0

Sheet تكلفة السيارات ووسائل النقل
A1: جدول رقم 4
A2: تكلفة السيارات ووسائل النقل خلال السنوات من 2019 م إلى 2028 م
A3: إعداد شركة جوجان لخدمات الأعمال | D3: googanconsult.com | M3: ريال سعودي
A4: البيان | B4: متوسط السعر | C4: الوحدة | D4: السنوات
A5: السيارات ووسائل النقل | B5: ريال | C5: سيارة | D5: 2019 | E5: =D5+1 -> 2020 | F5: =E5+1 -> 2021 | G5: =F5+1 -> 2022 | H5: =G5+1 -> 2023 | I5: =H5+1 -> 2024 | J5: =I5+1 -> 2025 | K5: =J5+1 -> 2026 | L5: =K5+1 -> 2027 | M5: =L5+1 -> 2028
A6: التكلفة | B6: 0 | C6: 0 | D6: =B6*C6 -> 0 | E6: =D6 -> 0 | F6: =E6 -> 0 | G6: =F6 -> 0 | H6: =G6 -> 0 | I6: =H6 -> 0 | J6: =I6 -> 0 | K6: =J6 -> 0 | L6: =K6 -> 0 | M6: =L6 -> 0
A7: نسبة الإهلاك السنوي | D7: 0.2 | E7: 0.2 | F7: 0.2 | G7: 0.2 | H7: 0.2 | I7: 0.2 | J7: 0.2 | K7: 0.2 | L7: 0.2 | M7: 0.2
A8: الإهلاك السنوي | D8: =D6*D7 -> 0 | E8: =E6*E7 -> 0 | F8: =F6*F7 -> 0 | G8: =G6*G7 -> 0 | H8: =H6*H7 -> 0 | I8: =I6*I7 -> 0 | J8: =J6*J7 -> 0 | K8: =K6*K7 -> 0 | ... M8: =M6*M7 -> 0
A9: الإهلاك التراكمي | D9: =D8 -> 0 | E9: =D9+E8 -> 0 | F9: =E9+F8 -> 0 | G9: =F9+G8 -> 0 | H9: =G9+H8 -> 0 | I9: =H9+I8 -> 0 | J9: =I9+J8 -> 0 | K9: =J9+K8 -> 0 | L9: =K9+L8 -> 0 | M9: =L9+M8 -> 0
A10: صافي القيمة الدفترية | D10: =D6-D9 -> 0 | E10: =E6-E9 -> 0 | F10: =F6-F9 -> 0 | G10: =G6-G9 -> 0 | H10: =H6-H9 -> 0 | I10: =I6-I9 -> 0 | J10: =J6-J9 -> 0 | K10: =K6-K9 -> 0 | ... M10: =M6-M9 -> 0

Sheet تكلفة الأجهزة واالأثاث
A1: جدول رقم 5
A2: تكلفة الأجهزة والأثاث خلال السنوات من 2019 م إلى 2028 م
A3: إعداد شركة جوجان لخدمات الأعمال | D3: googanconsult.com | M3: ريال سعودي
A4: البيان | B4: متوسط السعر | C4: الوحدة | D4: السنوات
A5: الأجهزة الكهربائية والحاسب | B5: ريال | C5: جهاز | D5: 2019 | E5: =D5+1 -> 2020 | F5: =E5+1 -> 2021 | G5: =F5+1 -> 2022 | H5: =G5+1 -> 2023 | I5: =H5+1 -> 2024 | J5: =I5+1 -> 2025 | K5: =J5+1 -> 2026 | L5: =K5+1 -> 2027 | M5: =L5+1 -> 2028
A6: التكلفة | B6: 0 | C6: 0 | D6: =B6*C6 -> 0 | E6: =D6 -> 0 | F6: =E6 -> 0 | G6: =F6 -> 0 | H6: =G6 -> 0 | I6: =H6 -> 0 | J6: =I6 -> 0 | K6: =J6 -> 0 | L6: =K6 -> 0 | M6: =L6 -> 0
A7: نسبة الإهلاك السنوي | D7: 0.15 | E7: 0.15 | F7: 0.15 | G7: 0.15 | H7: 0.15 | I7: 0.15 | J7: 0.15 | K7: 0.15 | L7: 0.15 | M7: 0.15
A8: الإهلاك السنوي | D8: =D6*D7 -> 0 | E8: =E6*E7 -> 0 | F8: =F6*F7 -> 0 | G8: =G6*G7 -> 0 | H8: =H6*H7 -> 0 | I8: =I6*I7 -> 0 | J8: 0 | K8: =K6*K7 -> 0 | L8: =L6*L7 -> 0 | M8: =M6*M7 -> 0
A9: الإهلاك التراكمي | D9: =D8 -> 0 | E9: =D9+E8 -> 0 | F9: =E9+F8 -> 0 | G9: =F9+G8 -> 0 | H9: =G9+H8 -> 0 | I9: =H9+I8 -> 0 | J9: =I9+J8 -> 0 | K9: 22500 | L9: =K9+L8 -> 22500 | M9: =L9+M8 -> 22500
A10: صافي القيمة الدفترية | D10: =D6-D9 -> 0 | E10: =E6-E9 -> 0 | F10: =F6-F9 -> 0 | G10: =G6-G9 -> 0 | H10: =H6-H9 -> 0 | I10: =I6-I9 -> 0 | J10: =J6-J9 -> 0 | K10: =K6-K9 -> -22500 | ... M10: =M6-M9 -> -22500

Sheet إجمالي الموجودات
A1: جدول رقم 6
A2: تكلفة الأصول الثابتة خلال السنوات من 2019 م إلى 2028 م
A3: إعداد شركة جوجان لخدمات الأعمال | D3: googanconsult.com | K3: ريال سعودي
A4: البيان | B4: السنوات
A5: الأصول | B5: 2019 | C5: =B5+1 -> 2020 | D5: =C5+1 -> 2021 | E5: =D5+1 -> 2022 | F5: =E5+1 -> 2023 | G5: =F5+1 -> 2024 | H5: =G5+1 -> 2025 | I5: =H5+1 -> 2026 | J5: =I5+1 -> 2027 | K5: =J5+1 -> 2028
A6: التكلفة | B6: ='تكلفة المباني'!D6+'تكلفة المعدات'!D6+'تكلفة السيارات ووسائل النقل'!D6+'تكلفة الأجهزة واالأثاث'!D6 -> 2100000 | C6: ='تكلفة المباني'!E6+'تكلفة المعدات'!E6+'تكلفة السيارات ووسائل النقل'!E6+'تكلفة الأجهزة واالأثاث'!E6 -> 2100000 | D6: ='تكلفة المباني'!F6+'تكلفة المعدات'!F6+'تكلفة السيارات ووسائل النقل'!F6+'تكلفة الأجهزة واالأثاث'!F6 -> 2100000 | E6: ='تكلفة المباني'!G6+'تكلفة المعدات'!G6+'تكلفة السيارات ووسائل النقل'!G6+'تكلفة الأجهزة واالأثاث'!G6 -> 2100000 | F6: ='تكلفة المباني'!H6+'تكلفة المعدات'!H6+'تكلفة السيارات ووسائل النقل'!H6+'تكلفة الأجهزة واالأثاث'!H6 -> 2100000 | G6: ='تكلفة المباني'!I6+'تكلفة المعدات'!I6+'تكلفة السيارات ووسائل النقل'!I6+'تكلفة الأجهزة واالأثاث'!I6 -> 2100000 | H6: ='تكلفة المباني'!J6+'تكلفة المعدات'!J6+'تكلفة السيارات ووسائل النقل'!J6+'تكلفة الأجهزة واالأثاث'!J6 -> 2100000 | I6: ='تكلفة المباني'!K6+'تكلفة المعدات'!K6+'تكلفة السيارات ووسائل النقل'!K6+'تكلفة الأجهزة واالأثاث'!K6 -> 2100000 | ... K6: ='تكلفة المباني'!M6+'تكلفة المعدات'!M6+'تكلفة السيارات ووسائل النقل'!M6+'تكلفة الأجهزة واالأثاث'!M6 -> 2100000
A7: الإهلاك السنوي | B7: ='تكلفة المباني'!D8+'تكلفة المعدات'!D8+'تكلفة السيارات ووسائل النقل'!D8+'تكلفة الأجهزة واالأثاث'!D8 -> 77000 | C7: ='تكلفة المباني'!E8+'تكلفة المعدات'!E8+'تكلفة السيارات ووسائل النقل'!E8+'تكلفة الأجهزة واالأثاث'!E8 -> 77000 | D7: ='تكلفة المباني'!F8+'تكلفة المعدات'!F8+'تكلفة السيارات ووسائل النقل'!F8+'تكلفة الأجهزة واالأثاث'!F8 -> 77000 | E7: ='تكلفة المباني'!G8+'تكلفة المعدات'!G8+'تكلفة السيارات ووسائل النقل'!G8+'تكلفة الأجهزة واالأثاث'!G8 -> 77000 | F7: ='تكلفة المباني'!H8+'تكلفة المعدات'!H8+'تكلفة السيارات ووسائل النقل'!H8+'تكلفة الأجهزة واالأثاث'!H8 -> 77000 | G7: ='تكلفة المباني'!I8+'تكلفة المعدات'!I8+'تكلفة السيارات ووسائل النقل'!I8+'تكلفة الأجهزة واالأثاث'!I8 -> 77000 | H7: ='تكلفة المباني'!J8+'تكلفة المعدات'!J8+'تكلفة السيارات ووسائل النقل'!J8+'تكلفة الأجهزة واالأثاث'!J8 -> 77000 | I7: ='تكلفة المباني'!K8+'تكلفة المعدات'!K8+'تكلفة السيارات ووسائل النقل'!K8+'تكلفة الأجهزة واالأثاث'!K8 -> 77000 | ... K7: ='تكلفة المباني'!M8+'تكلفة المعدات'!M8+'تكلفة السيارات ووسائل النقل'!M8+'تكلفة الأجهزة واالأثاث'!M8 -> 77000
A8: الإهلاك التراكمي | B8: ='تكلفة المباني'!D9+'تكلفة المعدات'!D9+'تكلفة السيارات ووسائل النقل'!D9+'تكلفة الأجهزة واالأثاث'!D9 -> 77000 | C8: ='تكلفة المباني'!E9+'تكلفة المعدات'!E9+'تكلفة السيارات ووسائل النقل'!E9+'تكلفة الأجهزة واالأثاث'!E9 -> 154000 | D8: ='تكلفة المباني'!F9+'تكلفة المعدات'!F9+'تكلفة السيارات ووسائل النقل'!F9+'تكلفة الأجهزة واالأثاث'!F9 -> 231000 | E8: ='تكلفة المباني'!G9+'تكلفة المعدات'!G9+'تكلفة السيارات ووسائل النقل'!G9+'تكلفة الأجهزة واالأثاث'!G9 -> 308000 | F8: ='تكلفة المباني'!H9+'تكلفة المعدات'!H9+'تكلفة السيارات ووسائل النقل'!H9+'تكلفة الأجهزة واالأثاث'!H9 -> 385000 | G8: ='تكلفة المباني'!I9+'تكلفة المعدات'!I9+'تكلفة السيارات ووسائل النقل'!I9+'تكلفة الأجهزة واالأثاث'!I9 -> 462000 | H8: ='تكلفة المباني'!J9+'تكلفة المعدات'!J9+'تكلفة السيارات ووسائل النقل'!J9+'تكلفة الأجهزة واالأثاث'!J9 -> 539000 | I8: ='تكلفة المباني'!K9+'تكلفة المعدات'!K9+'تكلفة السيارات ووسائل النقل'!K9+'تكلفة الأجهزة واالأثاث'!K9 -> 638500 | ... K8: ='تكلفة المباني'!M9+'تكلفة المعدات'!M9+'تكلفة السيارات ووسائل النقل'!M9+'تكلفة الأجهزة واالأثاث'!M9 -> 792500
A9: صافي القيمة الدفترية | B9: =B6-B8 -> 2023000 | C9: =C6-C8 -> 1946000 | D9: =D6-D8 -> 1869000 | E9: =E6-E8 -> 1792000 | F9: =F6-F8 -> 1715000 | G9: =G6-G8 -> 1638000 | H9: =H6-H8 -> 1561000 | I9: =I6-I8 -> 1461500 | ... K9: =K6-K8 -> 1307500

Sheet م.التأسيس
A1: جدول رقم 7
A2: تكلفة مصاريف التأسيس خلال السنوات من 2019 م إلى 2028 م
A3: إعداد شركة جوجان لخدمات الأعمال | D3: googanconsult.com
A4: البيان | B4: المبلغ
A5: دراســات فنية و اقتصادية | B5: 12000
A6: مخططات واستشارات | B6: 14000
A7: الاشراف على تنفيذ المباني ةالانشاءات | B7: 50000
A8: الاشراف على تركيب المعدات للملعب | B8: 10000
A9: دعاية واعلان وترويج ومطبوعات اعلامية | B9: 10000
A10: المجموع | B10: =SUM(B5:B9) -> 96000
K12: ريال سعودي
A13: البيان | B13: السنوات
A14: مصاريف التأسيس | B14: 2019 | C14: =B14+1 -> 2020 | D14: =C14+1 -> 2021 | E14: =D14+1 -> 2022 | F14: =E14+1 -> 2023 | G14: =F14+1 -> 2024 | H14: =G14+1 -> 2025 | I14: =H14+1 -> 2026 | J14: =I14+1 -> 2027 | K14: =J14+1 -> 2028
A15: التكلفة | B15: 96000 | C15: 96000 | D15: 96000 | E15: 96000 | F15: 96000 | G15: 0 | H15: =H10 -> 0 | I15: =I10 -> 0 | J15: =J10 -> 0 | K15: =K10 -> 0
A16: نسبة الإطفاء السنوي | B16: 0.2 | C16: 0.2 | D16: 0.2 | E16: 0.2 | F16: 0.2 | G16: 0 | H16: 0 | I16: 0 | J16: 0 | K16: 0
A17: الإطفاء السنوي | B17: =B15*B16 -> 19200 | C17: =C15*C16 -> 19200 | D17: =D15*D16 -> 19200 | E17: =E15*E16 -> 19200 | F17: =F15*F16 -> 19200 | G17: =G15*G16 -> 0 | H17: =H15*H16 -> 0 | I17: =I15*I16 -> 0 | ... K17: =K15*K16 -> 0
A18: الإطفاء التراكمي | B18: =B17 -> 19200 | C18: =B18+C17 -> 38400 | D18: =C18+D17 -> 57600 | E18: =D18+E17 -> 76800 | F18: =E18+F17 -> 96000 | G18: 0 | H18: 0 | I18: 0 | J18: 0 | K18: 0
A19: صافي القيمة الدفترية | B19: =B15-B18 -> 76800 | C19: =C15-C18 -> 57600 | D19: =D15-D18 -> 38400 | E19: =E15-E18 -> 19200 | F19: =F15-F18 -> 0 | G19: =G15-G18 -> 0 | H19: =H15-H18 -> 0 | I19: =I15-I18 -> 0 | ... K19: =K15-K18 -> 0

Sheet رأس مال ثابت
A1: جدول رقم 8
A2: التكاليف الإستثمارية خلال السنوات من 2019 م إلى 2028 م
A3: إعداد شركة جوجان لخدمات الأعمال | D3: googanconsult.com
K4: ريال سعودي
A5: البيان | B5: السنوات
A6: التكاليف الإستثمارية | B6: 2019 | C6: =B6+1 -> 2020 | D6: =C6+1 -> 2021 | E6: =D6+1 -> 2022 | F6: =E6+1 -> 2023 | G6: =F6+1 -> 2024 | H6: =G6+1 -> 2025 | I6: =H6+1 -> 2026 | J6: =I6+1 -> 2027 | K6: =J6+1 -> 2028
A7: المباني | B7: ='تكلفة المباني'!D6 -> 1900000 | C7: ='تكلفة المباني'!E6 -> 1900000 | D7: ='تكلفة المباني'!F6 -> 1900000 | E7: ='تكلفة المباني'!G6 -> 1900000 | F7: ='تكلفة المباني'!H6 -> 1900000 | G7: ='تكلفة المباني'!I6 -> 1900000 | H7: ='تكلفة المباني'!J6 -> 1900000 | I7: ='تكلفة المباني'!K6 -> 1900000 | ... K7: ='تكلفة المباني'!M6 -> 1900000
A8: المعدات | B8: ='تكلفة المعدات'!D6 -> 200000 | C8: ='تكلفة المعدات'!E6 -> 200000 | D8: ='تكلفة المعدات'!F6 -> 200000 | E8: ='تكلفة المعدات'!G6 -> 200000 | F8: ='تكلفة المعدات'!H6 -> 200000 | G8: ='تكلفة المعدات'!I6 -> 200000 | H8: ='تكلفة المعدات'!J6 -> 200000 | I8: ='تكلفة المعدات'!K6 -> 200000 | ... K8: ='تكلفة المعدات'!M6 -> 200000
A11: مصاريف التأسيس | B11: ='م.التأسيس'!B15 -> 96000 | C11: ='م.التأسيس'!C15 -> 96000 | D11: ='م.التأسيس'!D15 -> 96000 | E11: ='م.التأسيس'!E15 -> 96000 | F11: ='م.التأسيس'!F15 -> 96000 | G11: ='م.التأسيس'!G15 -> 0 | H11: ='م.التأسيس'!H15 -> 0 | I11: ='م.التأسيس'!I15 -> 0 | ... K11: ='م.التأسيس'!K15 -> 0
A12: صافي القيمة الدفترية | B12: =SUM(B7:B11) -> 2196000 | C12: =SUM(C7:C11) -> 2196000 | D12: =SUM(D7:D11) -> 2196000 | E12: =SUM(E7:E11) -> 2196000 | F12: =SUM(F7:F11) -> 2196000 | G12: =SUM(G7:G11) -> 2100000 | H12: =SUM(H7:H11) -> 2100000 | I12: =SUM(I7:I11) -> 2100000 | ... K12: =SUM(K7:K11) -> 2100000

Sheet رأس المال العامل
A1: جدول رقم 9
A2: رأس المال العامل خلال السنوات من 2019 م إلى 2028 م
A3: إعداد شركة جوجان لخدمات الأعمال | D3: googanconsult.com | L3: ريال سعودي
A4: البيان | C4: السنوات
A5: مصاريف التشغيل | B5: رأس المال العامل | C5: 2019 | D5: =C5+1 -> 2020 | E5: =D5+1 -> 2021 | F5: =E5+1 -> 2022 | G5: =F5+1 -> 2023 | H5: =G5+1 -> 2024 | I5: =H5+1 -> 2025 | J5: =I5+1 -> 2026 | K5: =J5+1 -> 2027 | L5: =K5+1 -> 2028
A6: ايجار المصنع | B6: 0 | C6: 0 | D6: 0 | E6: 0 | F6: 0 | G6: 0 | H6: 0 | I6: 0 | J6: 0 | K6: 0 | L6: 0
A7: الرواتب والأجور | B7: =C7*6/12 -> 5400 | C7: ='م. تشغيل سنوية'!B6 -> 10800 | D7: ='م. تشغيل سنوية'!C6 -> 10800 | E7: ='م. تشغيل سنوية'!D6 -> 10800 | F7: ='م. تشغيل سنوية'!E6 -> 10800 | G7: ='م. تشغيل سنوية'!F6 -> 10800 | H7: ='م. تشغيل سنوية'!G6 -> 10800 | I7: ='م. تشغيل سنوية'!H6 -> 10800 | J7: ='م. تشغيل سنوية'!I6 -> 10800 | ... L7: ='م. تشغيل سنوية'!K6 -> 10800
A8: المواد الخام | B8: 0 | C8: 0 | D8: 0 | E8: 0 | F8: 0 | G8: 0 | H8: 0 | I8: 0 | J8: 0 | K8: 0 | L8: 0
A9: المنافع العامة | B9: =C9*10/12 -> 10416.667 | C9: ='م. تشغيل سنوية'!B7 -> 12500 | D9: ='م. تشغيل سنوية'!C7 -> 12500 | E9: ='م. تشغيل سنوية'!D7 -> 12500 | F9: ='م. تشغيل سنوية'!E7 -> 12500 | G9: ='م. تشغيل سنوية'!F7 -> 12500 | H9: ='م. تشغيل سنوية'!G7 -> 12500 | I9: ='م. تشغيل سنوية'!H7 -> 12500 | J9: ='م. تشغيل سنوية'!I7 -> 12500 | ... L9: ='م. تشغيل سنوية'!K7 -> 12500
A10: تكاليف الصيانة | B10: =C10*10/12 -> 8333.3333 | C10: ='م. تشغيل سنوية'!B8 -> 10000 | D10: ='م. تشغيل سنوية'!C8 -> 10000 | E10: ='م. تشغيل سنوية'!D8 -> 10000 | F10: ='م. تشغيل سنوية'!E8 -> 10000 | G10: ='م. تشغيل سنوية'!F8 -> 10000 | H10: ='م. تشغيل سنوية'!G8 -> 10000 | I10: ='م. تشغيل سنوية'!H8 -> 10000 | J10: ='م. تشغيل سنوية'!I8 -> 10000 | ... L10: ='م. تشغيل سنوية'!K8 -> 10000
A11: تكاليف التأمين | B11: 0 | C11: 0 | D11: 0 | E11: 0 | F11: 0 | G11: 0 | H11: 0 | I11: 0 | J11: 0 | K11: 0 | L11: 0
A12: المصاريف الإدارية والعمومية | B12: =C12*10/12 -> 416.66667 | C12: ='م. تشغيل سنوية'!B9 -> 500 | D12: ='م. تشغيل سنوية'!C9 -> 500 | E12: ='م. تشغيل سنوية'!D9 -> 500 | F12: ='م. تشغيل سنوية'!E9 -> 500 | G12: ='م. تشغيل سنوية'!F9 -> 500 | H12: ='م. تشغيل سنوية'!G9 -> 500 | I12: ='م. تشغيل سنوية'!H9 -> 500 | J12: ='م. تشغيل سنوية'!I9 -> 500 | ... L12: ='م. تشغيل سنوية'!K9 -> 500
A13: المصاريف التسويقية | B13: =C13*10/12 -> 833.33333 | C13: ='م. تشغيل سنوية'!B10 -> 1000 | D13: ='م. تشغيل سنوية'!C10 -> 1000 | E13: ='م. تشغيل سنوية'!D10 -> 1000 | F13: ='م. تشغيل سنوية'!E10 -> 1000 | G13: ='م. تشغيل سنوية'!F10 -> 1000 | H13: ='م. تشغيل سنوية'!G10 -> 1000 | I13: ='م. تشغيل سنوية'!H10 -> 1000 | J13: ='م. تشغيل سنوية'!I10 -> 1000 | ... L13: ='م. تشغيل سنوية'!K10 -> 1000
A14: مجموع مصاريف التشغيل | C14: =SUM(C6:C13) -> 34800 | D14: =SUM(D6:D13) -> 34800 | E14: =SUM(E6:E13) -> 34800 | F14: =SUM(F6:F13) -> 34800 | G14: =SUM(G6:G13) -> 34800 | H14: =SUM(H6:H13) -> 34800 | I14: =SUM(I6:I13) -> 34800 | J14: =SUM(J6:J13) -> 34800 | ... L14: =SUM(L6:L13) -> 34800
A15: رأس المال العامل نيب مختلفه من المصاريف للسنة الأولى | B15: =SUM(B6:B14) -> 25400 | C15: =B15 -> 25400 | D15: =D14/1 -> 34800 | E15: =E14/1 -> 34800 | F15: =F14/1 -> 34800 | G15: =G14/1 -> 34800 | H15: =H14/1 -> 34800 | I15: =I14/1 -> 34800 | J15: =J14/1 -> 34800 | K15: =K14/1 -> 34800 | L15: =L14/1 -> 34800

Sheet رأس المال المستثمر
A1: جدول رقم 10
A2: رأس المال المستثمر خلال السنوات من 2019 م إلى 2028 م
A3: إعداد شركة جوجان لخدمات الأعمال | D3: googanconsult.com
K4: ريال سعودي
A5: البيان | B5: السنوات
A6: البند | B6: 2019 | C6: =B6+1 -> 2020 | D6: =C6+1 -> 2021 | E6: =D6+1 -> 2022 | F6: =E6+1 -> 2023 | G6: =F6+1 -> 2024 | H6: =G6+1 -> 2025 | I6: =H6+1 -> 2026 | J6: =I6+1 -> 2027 | K6: =J6+1 -> 2028
A7: رأس المال الثابت | B7: ='رأس مال ثابت'!B12 -> 2196000 | C7: ='رأس مال ثابت'!C12 -> 2196000 | D7: ='رأس مال ثابت'!D12 -> 2196000 | E7: ='رأس مال ثابت'!E12 -> 2196000 | F7: ='رأس مال ثابت'!F12 -> 2196000 | G7: ='رأس مال ثابت'!G12 -> 2100000 | H7: ='رأس مال ثابت'!H12 -> 2100000 | I7: ='رأس مال ثابت'!I12 -> 2100000 | ... K7: ='رأس مال ثابت'!K12 -> 2100000
A8: رأس المال العامل | B8: ='رأس المال العامل'!C15 -> 25400 | C8: ='رأس المال العامل'!D15 -> 34800 | D8: ='رأس المال العامل'!E15 -> 34800 | E8: ='رأس المال العامل'!F15 -> 34800 | F8: ='رأس المال العامل'!G15 -> 34800 | G8: ='رأس المال العامل'!H15 -> 34800 | H8: ='رأس المال العامل'!I15 -> 34800 | I8: ='رأس المال العامل'!J15 -> 34800 | ... K8: ='رأس المال العامل'!L15 -> 34800
A9: رسوم | B9: 0
A10: إجمالي رأس المال المستثمر | B10: =SUM(B7:B9) -> 2221400 | C10: =SUM(C7:C9) -> 2230800 | D10: =SUM(D7:D9) -> 2230800 | E10: =SUM(E7:E9) -> 2230800 | F10: =SUM(F7:F9) -> 2230800 | G10: =SUM(G7:G9) -> 2134800 | H10: =SUM(H7:H9) -> 2134800 | I10: =SUM(I7:I9) -> 2134800 | ... K10: =SUM(K7:K9) -> 2134800
A13: هيكل التمويل | B13: النسبة % | C13: المبلغ
A14: تمويل ذاتي | B14: 100 | C14: =B10*B14/100 -> 2221400
A15: قرض بنكية | B15: 0 | C15: =B10*B15/100 -> 0
A16: المجموع | B16: =SUM(B14:B15) -> 100 | C16: =SUM(C14:C15) -> 2221400
A19: هيكل التمويل | B19: النسبة % | C19: المبلغ
A20: رأس المال الثابت | B20: =C20/C22*100 -> 98.856577 | C20: =B7 -> 2196000
A21: رأس المال العامل | B21: =C21/C22*100 -> 1.1434231 | C21: =B8+B9 -> 25400
A22: المجموع | B22: =SUM(B20:B21) -> 100 | C22: =B10 -> 2221400

Sheet برنامج سداد القرض
A1: جدول 11
A2: برنامج سداد القرض خلال السنوات من 2019 م إلى 2028 م
A3: إعداد شركة جوجان لخدمات الأعمال | D3: googanconsult.com
K4: ريال سعودي
A5: البيان | B5: السنوات
A6: نوع القرض | B6: 2019 | C6: =B6+1 -> 2020 | D6: =C6+1 -> 2021 | E6: =D6+1 -> 2022 | F6: =E6+1 -> 2023 | G6: =F6+1 -> 2024 | H6: =G6+1 -> 2025 | I6: =H6+1 -> 2026 | J6: =I6+1 -> 2027 | K6: =J6+1 -> 2028
A7: قرض تجاري
A8: قيمة القرض بداية السنة | B8: 0 | C8: =B12 -> 0 | D8: =C12 -> 0 | E8: =D12 -> 0 | F8: =E12 -> 0 | G8: =F12 -> 0 | H8: =G12 -> 0 | I8: 0 | J8: 0 | K8: 0
A9: أقساط القرض | B9: =B8/5 -> 0 | C9: =B9 -> 0 | D9: =C9 -> 0 | E9: =D9 -> 0 | F9: =E9 -> 0
A10: نسبة الفائدة | B10: 0 | C10: 0 | D10: 0 | E10: 0 | F10: 0
A11: فائدة القرض | B11: =B8*B10 -> 0 | C11: =C8*C10 -> 0 | D11: =D8*D10 -> 0 | E11: =E8*E10 -> 0 | F11: =F8*F10 -> 0
A12: المتبقي من القرض نهاية السنة | B12: =B8-B9 -> 0 | C12: =C8-C9 -> 0 | D12: =D8-D9 -> 0 | E12: =E8-E9 -> 0 | F12: =F8-F9 -> 0 | G12: =G8-G9 -> 0 | H12: =H8-H9 -> 0 | I12: =I8-I9 -> 0 | ... K12: =K8-K9 -> 0
A13: قرض حكومي
A14: قيمة القرض بداية السنة | B14: ='رأس المال المستثمر'!C15 -> 0 | C14: =B16 -> 0 | D14: 0 | E14: 0 | F14: 0 | G14: 0 | H14: 0 | I14: 0 | J14: 0 | K14: 0
A15: أقساط القرض | B15: =B14/8 -> 0 | C15: 0 | D15: 0 | E15: 0 | F15: 0 | G15: 0 | H15: 0 | I15: 0 | J15: 0 | K15: 0
A16: المتبقي من القرض نهاية السنة | B16: =B14-B15 -> 0 | C16: 0 | D16: =D14-D15 -> 0 | E16: =E14-E15 -> 0 | F16: =F14-F15 -> 0 | G16: =G14-G15 -> 0 | H16: =H14-H15 -> 0 | I16: 0 | J16: =J14-J15 -> 0 | K16: =K14-K15 -> 0

Sheet الرواتب
A1: جدول رقم 12
A2: تكلفة العمالة خلال السنوات من 2019 م إلى 2028 م
A3: إعداد شركة جوجان لخدمات الأعمال | D3: googanconsult.com | M3: ريال سعودي
A4: البيان | B4: السنوات
A5: العمالة اللازمة - الإدارية | B5: العدد | C5: الراتب الشهري | D5: 2019 | E5: =D5+1 -> 2020 | F5: =E5+1 -> 2021 | G5: =F5+1 -> 2022 | H5: =G5+1 -> 2023 | I5: =H5+1 -> 2024 | J5: =I5+1 -> 2025 | K5: =J5+1 -> 2026 | L5: =K5+1 -> 2027 | M5: =L5+1 -> 2028
A6: مسؤول الملاعب | B6: 1 | C6: 300 | D6: =C6*B6*12 -> 3600 | E6: =D6 -> 3600 | F6: =E6 -> 3600 | G6: =F6 -> 3600 | H6: =G6 -> 3600 | I6: =H6 -> 3600 | J6: =I6 -> 3600 | K6: =J6 -> 3600 | L6: =K6 -> 3600 | M6: =L6 -> 3600
A7: الحارس | B7: 1 | C7: 300 | D7: =C7*B7*12 -> 3600 | E7: =D7 -> 3600 | F7: =E7 -> 3600 | G7: =F7 -> 3600 | H7: =G7 -> 3600 | I7: =H7 -> 3600 | J7: =I7 -> 3600 | K7: =J7 -> 3600 | L7: =K7 -> 3600 | M7: =L7 -> 3600
A9: المحاسب | B9: 1 | C9: 300 | D9: =C9*B9*12 -> 3600 | E9: =D9 -> 3600 | F9: =E9 -> 3600 | G9: =F9 -> 3600 | H9: =G9 -> 3600 | I9: =H9 -> 3600 | J9: =I9 -> 3600 | K9: =J9 -> 3600 | L9: =K9 -> 3600 | M9: =L9 -> 3600
A18: إجمالي العمالة - الإدارية | B18: =SUM(B6:B17) -> 3 | D18: =SUM(D6:D17) -> 10800 | E18: =SUM(E6:E17) -> 10800 | F18: =SUM(F6:F17) -> 10800 | G18: =SUM(G6:G17) -> 10800 | H18: =SUM(H6:H17) -> 10800 | I18: =SUM(I6:I17) -> 10800 | J18: =SUM(J6:J17) -> 10800 | K18: =SUM(K6:K17) -> 10800 | ... M18: =SUM(M6:M17) -> 10800
A19: العمالة اللازمة - الإنتاج
A20: مدير انتاج | B20: 0 | C20: 0 | D20: =C20*B20*12 -> 0 | E20: =D20 -> 0 | F20: =E20 -> 0 | G20: =F20 -> 0 | H20: =G20 -> 0 | I20: =H20 -> 0 | J20: =I20 -> 0 | K20: =J20 -> 0 | L20: =K20 -> 0 | M20: =L20 -> 0
A21: عامل ماهر | B21: 0 | C21: 0 | D21: =C21*B21*12 -> 0 | E21: =D21 -> 0 | F21: =E21 -> 0 | G21: =F21 -> 0 | H21: =G21 -> 0 | I21: =H21 -> 0 | J21: =I21 -> 0 | K21: =J21 -> 0 | L21: =K21 -> 0 | M21: =L21 -> 0
A23: إجمالي العمالة - الإنتاج | B23: =SUM(B20:B22) -> 0 | D23: =SUM(D20:D22) -> 0 | E23: =SUM(E20:E22) -> 0 | F23: =SUM(F20:F22) -> 0 | G23: =SUM(G20:G22) -> 0 | H23: =SUM(H20:H22) -> 0 | I23: =SUM(I20:I22) -> 0 | J23: =SUM(J20:J22) -> 0 | K23: =SUM(K20:K22) -> 0 | ... M23: =SUM(M20:M22) -> 0
A24: إجمالي العمالة | B24: =B18+B23 -> 3 | D24: =D18+D23 -> 10800 | E24: =E18+E23 -> 10800 | F24: =F18+F23 -> 10800 | G24: =G18+G23 -> 10800 | H24: =H18+H23 -> 10800 | I24: =I18+I23 -> 10800 | J24: =J18+J23 -> 10800 | K24: =K18+K23 -> 10800 | ... M24: =M18+M23 -> 10800

Sheet مواد خام 1
A1: جدول رقم 13
A2: تكلفة المواد الخام للحلويات الشرقية خلال السنوات من 2019 م إلى 2028 م
A3: إعداد شركة جوجان لخدمات الأعمال | D3: googanconsult.com | O3: ريال سعودي
A4: البيان | B4: الوحدة | C4: الإستهلاك | E4: السنوات
A5: المواد الخام - حلويات شرقية | C5: اليومي | D5: سنوي | E5: السعر | F5: 2019 | G5: =F5+1 -> 2020 | H5: =G5+1 -> 2021 | I5: =H5+1 -> 2022 | J5: =I5+1 -> 2023 | K5: =J5+1 -> 2024 | L5: =K5+1 -> 2025 | M5: =L5+1 -> 2026 | N5: =M5+1 -> 2027 | O5: =N5+1 -> 2028
A6: حبيبات pvc | B6: طن | C6: 0 | D6: 0 | E6: 0 | F6: =E6*D6 -> 0 | G6: =F6 -> 0 | H6: =G6 -> 0 | I6: =H6 -> 0 | J6: =I6 -> 0 | K6: =J6 -> 0 | L6: =K6 -> 0 | M6: =L6 -> 0 | N6: =M6 -> 0 | O6: =N6 -> 0
A7: نشا25 ك | B7: كيس | C7: 0 | D7: 0 | F7: =E7*D7 -> 0 | G7: =F7 -> 0 | H7: =G7 -> 0 | I7: =H7 -> 0 | J7: =I7 -> 0 | K7: =J7 -> 0 | L7: =K7 -> 0 | M7: =L7 -> 0 | N7: =M7 -> 0 | O7: =N7 -> 0
A8: جلوكوز300 كجم | B8: برميل | C8: 0 | D8: 0 | F8: =E8*D8 -> 0 | G8: =F8 -> 0 | H8: =G8 -> 0 | I8: =H8 -> 0 | J8: =I8 -> 0 | K8: =J8 -> 0 | L8: =K8 -> 0 | M8: =L8 -> 0 | N8: =M8 -> 0 | O8: =N8 -> 0
A9: سمن حيواني 15ك | B9: تنك | C9: 0 | D9: 0 | F9: =E9*D9 -> 0 | G9: =F9 -> 0 | H9: =G9 -> 0 | I9: =H9 -> 0 | J9: =I9 -> 0 | K9: =J9 -> 0 | L9: =K9 -> 0 | M9: =L9 -> 0 | N9: =M9 -> 0 | O9: =N9 -> 0
A10: فواكهه | B10: ريال | C10: 0 | D10: 0 | F10: =E10*D10 -> 0 | G10: =F10 -> 0 | H10: =G10 -> 0 | I10: =H10 -> 0 | J10: =I10 -> 0 | K10: =J10 -> 0 | L10: =K10 -> 0 | M10: =L10 -> 0 | N10: =M10 -> 0 | O10: =N10 -> 0
A11: قشطه طازجة 10ك | B11: سطل | C11: 0 | D11: 0 | F11: =E11*D11 -> 0 | G11: =F11 -> 0 | H11: =G11 -> 0 | I11: =H11 -> 0 | J11: =I11 -> 0 | K11: =J11 -> 0 | L11: =K11 -> 0 | M11: =L11 -> 0 | N11: =M11 -> 0 | O11: =N11 -> 0
A12: حليب بودرة 6*1.5 2 ك نيدو | B12: كرتون | C12: 0 | D12: 0 | F12: =E12*D12 -> 0 | G12: =F12 -> 0 | H12: =G12 -> 0 | I12: =H12 -> 0 | J12: =I12 -> 0 | K12: =J12 -> 0 | L12: =K12 -> 0 | M12: =L12 -> 0 | N12: =M12 -> 0 | O12: =N12 -> 0
A13: سميد خشن 15ك | B13: كيس | C13: 0 | D13: 0 | F13: =E13*D13 -> 0 | G13: =F13 -> 0 | H13: =G13 -> 0 | I13: =H13 -> 0 | J13: =I13 -> 0 | K13: =J13 -> 0 | L13: =K13 -> 0 | M13: =L13 -> 0 | N13: =M13 -> 0 | O13: =N13 -> 0
A14: سميد ناعم 15ك | B14: كيس | C14: 0 | D14: 0 | F14: =E14*D14 -> 0 | G14: =F14 -> 0 | H14: =G14 -> 0 | I14: =H14 -> 0 | J14: =I14 -> 0 | K14: =J14 -> 0 | L14: =K14 -> 0 | M14: =L14 -> 0 | N14: =M14 -> 0 | O14: =N14 -> 0
A15: تمر مطحون20 ك | B15: كرتون | C15: 0 | D15: 0 | F15: =E15*D15 -> 0 | G15: =F15 -> 0 | H15: =G15 -> 0 | I15: =H15 -> 0 | J15: =I15 -> 0 | K15: =J15 -> 0 | L15: =K15 -> 0 | M15: =L15 -> 0 | N15: =M15 -> 0 | O15: =N15 -> 0
A16: جوز هند9 ك | B16: كيس | C16: 0 | D16: 0 | F16: =E16*D16 -> 0 | G16: =F16 -> 0 | H16: =G16 -> 0 | I16: =H16 -> 0 | J16: =I16 -> 0 | K16: =J16 -> 0 | L16: =K16 -> 0 | M16: =L16 -> 0 | N16: =M16 -> 0 | O16: =N16 -> 0
A17: زبده 25 ك | B17: كرتون | C17: 0 | D17: 0 | F17: =E17*D17 -> 0 | G17: =F17 -> 0 | H17: =G17 -> 0 | I17: =H17 -> 0 | J17: =I17 -> 0 | K17: =J17 -> 0 | L17: =K17 -> 0 | M17: =L17 -> 0 | N17: =M17 -> 0 | O17: =N17 -> 0
A18: جل كستر | B18: كرتون | C18: 0 | D18: 0 | F18: =E18*D18 -> 0 | G18: =F18 -> 0 | H18: =G18 -> 0 | I18: =H18 -> 0 | J18: =I18 -> 0 | K18: =J18 -> 0 | L18: =K18 -> 0 | M18: =L18 -> 0 | N18: =M18 -> 0 | O18: =N18 -> 0
... A20: فستق مقشر10ك | B20: كرتون | C20: 0 | D20: 0 | F20: =E20*D20 -> 0 | G20: =F20 -> 0 | H20: =G20 -> 0 | I20: =H20 -> 0 | J20: =I20 -> 0 | K20: =J20 -> 0 | L20: =K20 -> 0 | M20: =L20 -> 0 | N20: =M20 -> 0 | O20: =N20 -> 0
A21: إجمالي مواد خام حلويات شرقية | F21: =SUM(F6:F20) -> 0 | G21: =SUM(G6:G20) -> 0 | H21: =SUM(H6:H20) -> 0 | I21: =SUM(I6:I20) -> 0 | J21: =SUM(J6:J20) -> 0 | K21: =SUM(K6:K20) -> 0 | L21: =SUM(L6:L20) -> 0 | M21: =SUM(M6:M20) -> 0 | ... O21: =SUM(O6:O20) -> 0

Sheet مواد خام 2 
A1: جدول رقم 14
A2: تكلفة المواد الخام للحلويات الغربية خلال السنوات من 2019 م إلى 2028 م
A3: إعداد شركة جوجان لخدمات الأعمال | D3: googanconsult.com | O3: ريال سعودي
A4: البيان | B4: الوحدة | C4: الإستهلاك | E4: السنوات
A5: المواد الخام - حلويات غربية | C5: اليومي | D5: سنوي | E5: السعر | F5: 2009 | G5: =F5+1 -> 2010 | H5: =G5+1 -> 2011 | I5: =H5+1 -> 2012 | J5: =I5+1 -> 2013 | K5: =J5+1 -> 2014 | L5: =K5+1 -> 2015 | M5: =L5+1 -> 2016 | N5: =M5+1 -> 2017 | O5: =N5+1 -> 2018
A6: كريمة حيواني1*12لتر | B6: كرتون | C6: 0 | D6: 0 | F6: =E6*D6 -> 0 | G6: =F6 -> 0 | H6: =G6 -> 0 | I6: =H6 -> 0 | J6: =I6 -> 0 | K6: =J6 -> 0 | L6: =K6 -> 0 | M6: =L6 -> 0 | N6: =M6 -> 0 | O6: =N6 -> 0
A7: كريمة نباتي1*12لتر | B7: كرتون | C7: 0 | D7: 0 | F7: =E7*D7 -> 0 | G7: =F7 -> 0 | H7: =G7 -> 0 | I7: =H7 -> 0 | J7: =I7 -> 0 | K7: =J7 -> 0 | L7: =K7 -> 0 | M7: =L7 -> 0 | N7: =M7 -> 0 | O7: =N7 -> 0
A8: فواكهه مشكل 6*2 كجم علب | B8: كرتون | C8: 0 | D8: 0 | F8: =E8*D8 -> 0 | G8: =F8 -> 0 | H8: =G8 -> 0 | I8: =H8 -> 0 | J8: =I8 -> 0 | K8: =J8 -> 0 | L8: =K8 -> 0 | M8: =L8 -> 0 | N8: =M8 -> 0 | O8: =N8 -> 0
A9: ديكور جل 7كم مشكل | B9: سطل | C9: 0 | D9: 0 | F9: =E9*D9 -> 0 | G9: =F9 -> 0 | H9: =G9 -> 0 | I9: =H9 -> 0 | J9: =I9 -> 0 | K9: =J9 -> 0 | L9: =K9 -> 0 | M9: =L9 -> 0 | N9: =M9 -> 0 | O9: =N9 -> 0
A10: بيض | B10: كرتون | C10: 0 | D10: 0 | F10: =E10*D10 -> 0 | G10: =F10 -> 0 | H10: =G10 -> 0 | I10: =H10 -> 0 | J10: =I10 -> 0 | K10: =J10 -> 0 | L10: =K10 -> 0 | M10: =L10 -> 0 | N10: =M10 -> 0 | O10: =N10 -> 0
A11: فارميسل 12 كجم | B11: كرتون | C11: 0 | D11: 0 | F11: =E11*D11 -> 0 | G11: =F11 -> 0 | H11: =G11 -> 0 | I11: =H11 -> 0 | J11: =I11 -> 0 | K11: =J11 -> 0 | L11: =K11 -> 0 | M11: =L11 -> 0 | N11: =M11 -> 0 | O11: =N11 -> 0
A12: مربى مشكل13 ك | B12: سطل | C12: 0 | D12: 0 | F12: =E12*D12 -> 0 | G12: =F12 -> 0 | H12: =G12 -> 0 | I12: =H12 -> 0 | J12: =I12 -> 0 | K12: =J12 -> 0 | L12: =K12 -> 0 | M12: =L12 -> 0 | N12: =M12 -> 0 | O12: =N12 -> 0
A13: شكولاته حار(ابيض بني اسود)25 | B13: كرتون | C13: 0 | D13: 0 | F13: =E13*D13 -> 0 | G13: =F13 -> 0 | H13: =G13 -> 0 | I13: =H13 -> 0 | J13: =I13 -> 0 | K13: =J13 -> 0 | L13: =K13 -> 0 | M13: =L13 -> 0 | N13: =M13 -> 0 | O13: =N13 -> 0
A14: شكولاته بارد(ابيض بني اسود)15 | B14: كرتون | C14: 0 | D14: 0 | F14: =E14*D14 -> 0 | G14: =F14 -> 0 | H14: =G14 -> 0 | I14: =H14 -> 0 | J14: =I14 -> 0 | K14: =J14 -> 0 | L14: =K14 -> 0 | M14: =L14 -> 0 | N14: =M14 -> 0 | O14: =N14 -> 0
A15: اصنص 5*1ك | B15: كرتون | C15: 0 | D15: 0 | F15: =E15*D15 -> 0 | G15: =F15 -> 0 | H15: =G15 -> 0 | I15: =H15 -> 0 | J15: =I15 -> 0 | K15: =J15 -> 0 | L15: =K15 -> 0 | M15: =L15 -> 0 | N15: =M15 -> 0 | O15: =N15 -> 0
A16: اولكر | B16: كرتون | C16: 0 | D16: 0 | F16: =E16*D16 -> 0 | G16: =F16 -> 0 | H16: =G16 -> 0 | I16: =H16 -> 0 | J16: =I16 -> 0 | K16: =J16 -> 0 | L16: =K16 -> 0 | M16: =L16 -> 0 | N16: =M16 -> 0 | O16: =N16 -> 0
A17: حشوه حلا منزلي 7 ك | B17: كرتون | C17: 0 | D17: 0 | F17: =E17*D17 -> 0 | G17: =F17 -> 0 | H17: =G17 -> 0 | I17: =H17 -> 0 | J17: =I17 -> 0 | K17: =J17 -> 0 | L17: =K17 -> 0 | M17: =L17 -> 0 | N17: =M17 -> 0 | O17: =N17 -> 0
... A32: دقيق ابيض 45 ك | B32: كيس | C32: 0 | D32: 0 | F32: =E32*D32 -> 0 | G32: =F32 -> 0 | H32: =G32 -> 0 | I32: =H32 -> 0 | J32: =I32 -> 0 | K32: =J32 -> 0 | L32: =K32 -> 0 | M32: =L32 -> 0 | N32: =M32 -> 0 | O32: =N32 -> 0
A33: إجمالي مواد خام حلويات شرقية | F33: =SUM(F6:F32) -> 0 | G33: =SUM(G6:G32) -> 0 | H33: =SUM(H6:H32) -> 0 | I33: =SUM(I6:I32) -> 0 | J33: =SUM(J6:J32) -> 0 | K33: =SUM(K6:K32) -> 0 | L33: =SUM(L6:L32) -> 0 | M33: =SUM(M6:M32) -> 0 | ... O33: =SUM(O6:O32) -> 0

Sheet مواد خام 3
A1: جدول رقم 15
A2: تكلفة المواد الخام للمعجنات 1 خلال السنوات من 2009 م إلى 2018 م
A3: إعداد شركة جوجان لخدمات الأعمال | D3: googanconsult.com | O3: ريال سعودي
A4: البيان | B4: الوحدة | C4: الإستهلاك | E4: السنوات
A5: المواد الخام - معجنات 1 | C5: اليومي | D5: سنوي | E5: السعر | F5: 2009 | G5: =F5+1 -> 2010 | H5: =G5+1 -> 2011 | I5: =H5+1 -> 2012 | J5: =I5+1 -> 2013 | K5: =J5+1 -> 2014 | L5: =K5+1 -> 2015 | M5: =L5+1 -> 2016 | N5: =M5+1 -> 2017 | O5: =N5+1 -> 2018
A6: زيت نباتي 16ك | F6: =E6*D6 -> 0 | G6: =F6 -> 0 | H6: =G6 -> 0 | I6: =H6 -> 0 | J6: =I6 -> 0 | K6: =J6 -> 0 | L6: =K6 -> 0 | M6: =L6 -> 0 | N6: =M6 -> 0 | O6: =N6 -> 0
A7: زيت زيتون12لتر | F7: =E7*D7 -> 0 | G7: =F7 -> 0 | H7: =G7 -> 0 | I7: =H7 -> 0 | J7: =I7 -> 0 | K7: =J7 -> 0 | L7: =K7 -> 0 | M7: =L7 -> 0 | N7: =M7 -> 0 | O7: =N7 -> 0
A8: زيتون اخضر شرائح9 ك | F8: =E8*D8 -> 0 | G8: =F8 -> 0 | H8: =G8 -> 0 | I8: =H8 -> 0 | J8: =I8 -> 0 | K8: =J8 -> 0 | L8: =K8 -> 0 | M8: =L8 -> 0 | N8: =M8 -> 0 | O8: =N8 -> 0
A9: زيتون اسود شرائح9 ك | F9: =E9*D9 -> 0 | G9: =F9 -> 0 | H9: =G9 -> 0 | I9: =H9 -> 0 | J9: =I9 -> 0 | K9: =J9 -> 0 | L9: =K9 -> 0 | M9: =L9 -> 0 | N9: =M9 -> 0 | O9: =N9 -> 0
A10: خضار مشكل طازجة | F10: =E10*D10 -> 0 | G10: =F10 -> 0 | H10: =G10 -> 0 | I10: =H10 -> 0 | J10: =I10 -> 0 | K10: =J10 -> 0 | L10: =K10 -> 0 | M10: =L10 -> 0 | N10: =M10 -> 0 | O10: =N10 -> 0
A11: تونة 48 علبة | F11: =E11*D11 -> 0 | G11: =F11 -> 0 | H11: =G11 -> 0 | I11: =H11 -> 0 | J11: =I11 -> 0 | K11: =J11 -> 0 | L11: =K11 -> 0 | M11: =L11 -> 0 | N11: =M11 -> 0 | O11: =N11 -> 0
A12: فطر 6 علبة*1.5 1 ك | F12: =E12*D12 -> 0 | G12: =F12 -> 0 | H12: =G12 -> 0 | I12: =H12 -> 0 | J12: =I12 -> 0 | K12: =J12 -> 0 | L12: =K12 -> 0 | M12: =L12 -> 0 | N12: =M12 -> 0 | O12: =N12 -> 0
A13: ورق عنب سطل 22 ك | F13: =E13*D13 -> 0 | G13: =F13 -> 0 | H13: =G13 -> 0 | I13: =H13 -> 0 | J13: =I13 -> 0 | K13: =J13 -> 0 | L13: =K13 -> 0 | M13: =L13 -> 0 | N13: =M13 -> 0 | O13: =N13 -> 0
A14: جبن مالح 16ك | F14: =E14*D14 -> 0 | G14: =F14 -> 0 | H14: =G14 -> 0 | I14: =H14 -> 0 | J14: =I14 -> 0 | K14: =J14 -> 0 | L14: =K14 -> 0 | M14: =L14 -> 0 | N14: =M14 -> 0 | O14: =N14 -> 0
A15: جبن عكاوي 17ك | F15: =E15*D15 -> 0 | G15: =F15 -> 0 | H15: =G15 -> 0 | I15: =H15 -> 0 | J15: =I15 -> 0 | K15: =J15 -> 0 | L15: =K15 -> 0 | M15: =L15 -> 0 | N15: =M15 -> 0 | O15: =N15 -> 0
A16: لبنة4حبة*2750 جم | F16: =E16*D16 -> 0 | G16: =F16 -> 0 | H16: =G16 -> 0 | I16: =H16 -> 0 | J16: =I16 -> 0 | K16: =J16 -> 0 | L16: =K16 -> 0 | M16: =L16 -> 0 | N16: =M16 -> 0 | O16: =N16 -> 0
A17: دجاج مجمد 10ك | F17: =E17*D17 -> 0 | G17: =F17 -> 0 | H17: =G17 -> 0 | I17: =H17 -> 0 | J17: =I17 -> 0 | K17: =J17 -> 0 | L17: =K17 -> 0 | M17: =L17 -> 0 | N17: =M17 -> 0 | O17: =N17 -> 0
... A34: جبن بقره ضاحكة | F34: =E34*D34 -> 0 | G34: =F34 -> 0 | H34: =G34 -> 0 | I34: =H34 -> 0 | J34: =I34 -> 0 | K34: =J34 -> 0 | L34: =K34 -> 0 | M34: =L34 -> 0 | N34: =M34 -> 0 | O34: =N34 -> 0
A35: إجمالي مواد خام معجنات 1 | F35: =SUM(F6:F34) -> 0 | G35: =SUM(G6:G34) -> 0 | H35: =SUM(H6:H34) -> 0 | I35: =SUM(I6:I34) -> 0 | J35: =SUM(J6:J34) -> 0 | K35: =SUM(K6:K34) -> 0 | L35: =SUM(L6:L34) -> 0 | M35: =SUM(M6:M34) -> 0 | ... O35: =SUM(O6:O34) -> 0

Sheet مواد خام 4
A1: جدول رقم 16
A2: تكلفة المواد الخام للمعجنات 2 خلال السنوات من 2009 م إلى 2018 م
A3: إعداد شركة جوجان لخدمات الأعمال | D3: googanconsult.com | O3: ريال سعودي
A4: البيان | B4: الوحدة | C4: الإستهلاك | E4: السنوات
A5: المواد الخام - معجنات 2 | C5: اليومي | D5: سنوي | E5: السعر | F5: 2009 | G5: =F5+1 -> 2010 | H5: =G5+1 -> 2011 | I5: =H5+1 -> 2012 | J5: =I5+1 -> 2013 | K5: =J5+1 -> 2014 | L5: =K5+1 -> 2015 | M5: =L5+1 -> 2016 | N5: =M5+1 -> 2017 | O5: =N5+1 -> 2018
A6: مايونيز | B6: كرتون | F6: =E6*D6 -> 0 | G6: =F6 -> 0 | H6: =G6 -> 0 | I6: =H6 -> 0 | J6: =I6 -> 0 | K6: =J6 -> 0 | L6: =K6 -> 0 | M6: =L6 -> 0 | N6: =M6 -> 0 | O6: =N6 -> 0
A7: بهارات مشكل | B7: كيلو | F7: =E7*D7 -> 0 | G7: =F7 -> 0 | H7: =G7 -> 0 | I7: =H7 -> 0 | J7: =I7 -> 0 | K7: =J7 -> 0 | L7: =K7 -> 0 | M7: =L7 -> 0 | N7: =M7 -> 0 | O7: =N7 -> 0
A8: خل | B8: كرتون | F8: =E8*D8 -> 0 | G8: =F8 -> 0 | H8: =G8 -> 0 | I8: =H8 -> 0 | J8: =I8 -> 0 | K8: =J8 -> 0 | L8: =K8 -> 0 | M8: =L8 -> 0 | N8: =M8 -> 0 | O8: =N8 -> 0
A9: جبن موزيلا 2*6ك 120ك | B9: كرتون | F9: =E9*D9 -> 0 | G9: =F9 -> 0 | H9: =G9 -> 0 | I9: =H9 -> 0 | J9: =I9 -> 0 | K9: =J9 -> 0 | L9: =K9 -> 0 | M9: =L9 -> 0 | N9: =M9 -> 0 | O9: =N9 -> 0
A10: مارجرين كرواسان 12ك | B10: كرتون | F10: =E10*D10 -> 0 | G10: =F10 -> 0 | H10: =G10 -> 0 | I10: =H10 -> 0 | J10: =I10 -> 0 | K10: =J10 -> 0 | L10: =K10 -> 0 | M10: =L10 -> 0 | N10: =M10 -> 0 | O10: =N10 -> 0
A11: خضار مجمد 8ك | B11: كرتون | F11: =E11*D11 -> 0 | G11: =F11 -> 0 | H11: =G11 -> 0 | I11: =H11 -> 0 | J11: =I11 -> 0 | K11: =J11 -> 0 | L11: =K11 -> 0 | M11: =L11 -> 0 | N11: =M11 -> 0 | O11: =N11 -> 0
A12: برغل 10ك | B12: كيس | F12: =E12*D12 -> 0 | G12: =F12 -> 0 | H12: =G12 -> 0 | I12: =H12 -> 0 | J12: =I12 -> 0 | K12: =J12 -> 0 | L12: =K12 -> 0 | M12: =L12 -> 0 | N12: =M12 -> 0 | O12: =N12 -> 0
A13: حمص حب 15ك | B13: كيس | F13: =E13*D13 -> 0 | G13: =F13 -> 0 | H13: =G13 -> 0 | I13: =H13 -> 0 | J13: =I13 -> 0 | K13: =J13 -> 0 | L13: =K13 -> 0 | M13: =L13 -> 0 | N13: =M13 -> 0 | O13: =N13 -> 0
A14: فول مجروش 18ك | B14: كيس | F14: =E14*D14 -> 0 | G14: =F14 -> 0 | H14: =G14 -> 0 | I14: =H14 -> 0 | J14: =I14 -> 0 | K14: =J14 -> 0 | L14: =K14 -> 0 | M14: =L14 -> 0 | N14: =M14 -> 0 | O14: =N14 -> 0
A15: مبيض 12ك | B15: كرتون | F15: =E15*D15 -> 0 | G15: =F15 -> 0 | H15: =G15 -> 0 | I15: =H15 -> 0 | J15: =I15 -> 0 | K15: =J15 -> 0 | L15: =K15 -> 0 | M15: =L15 -> 0 | N15: =M15 -> 0 | O15: =N15 -> 0
A16: زيت دوار الشمس 10*800جم | B16: كرتون | F16: =E16*D16 -> 0 | G16: =F16 -> 0 | H16: =G16 -> 0 | I16: =H16 -> 0 | J16: =I16 -> 0 | K16: =J16 -> 0 | L16: =K16 -> 0 | M16: =L16 -> 0 | N16: =M16 -> 0 | O16: =N16 -> 0
A17: إجمالي مواد خام معجنات 2 | F17: =SUM(F6:F16) -> 0 | G17: =SUM(G6:G16) -> 0 | H17: =SUM(H6:H16) -> 0 | I17: =SUM(I6:I16) -> 0 | J17: =SUM(J6:J16) -> 0 | K17: =SUM(K6:K16) -> 0 | L17: =SUM(L6:L16) -> 0 | M17: =SUM(M6:M16) -> 0 | ... O17: =SUM(O6:O16) -> 0

Sheet مواد خام 5
A1: جدول رقم 17
A2: تكلفة المواد الخام للمخبوزات خلال السنوات من 2009 م إلى 2018 م
A3: إعداد شركة جوجان لخدمات الأعمال | D3: googanconsult.com | O3: ريال سعودي
A4: البيان | B4: الوحدة | C4: الإستهلاك | E4: السنوات
A5: المواد الخام - مخبوزات | C5: اليومي | D5: سنوي | E5: السعر | F5: 2009 | G5: =F5+1 -> 2010 | H5: =G5+1 -> 2011 | I5: =H5+1 -> 2012 | J5: =I5+1 -> 2013 | K5: =J5+1 -> 2014 | L5: =K5+1 -> 2015 | M5: =L5+1 -> 2016 | N5: =M5+1 -> 2017 | O5: =N5+1 -> 2018
A6: دقيق ابيض 45ك | B6: كيس | F6: =E6*D6 -> 0 | G6: =F6 -> 0 | H6: =G6 -> 0 | I6: =H6 -> 0 | J6: =I6 -> 0 | K6: =J6 -> 0 | L6: =K6 -> 0 | M6: =L6 -> 0 | N6: =M6 -> 0 | O6: =N6 -> 0
A7: دقيق اسمر 45ك | B7: كيس | F7: =E7*D7 -> 0 | G7: =F7 -> 0 | H7: =G7 -> 0 | I7: =H7 -> 0 | J7: =I7 -> 0 | K7: =J7 -> 0 | L7: =K7 -> 0 | M7: =L7 -> 0 | N7: =M7 -> 0 | O7: =N7 -> 0
A8: ملح 50ك | B8: كيلو | F8: =E8*D8 -> 0 | G8: =F8 -> 0 | H8: =G8 -> 0 | I8: =H8 -> 0 | J8: =I8 -> 0 | K8: =J8 -> 0 | L8: =K8 -> 0 | M8: =L8 -> 0 | N8: =M8 -> 0 | O8: =N8 -> 0
A9: سكر 50ك | B9: كيس | F9: =E9*D9 -> 0 | G9: =F9 -> 0 | H9: =G9 -> 0 | I9: =H9 -> 0 | J9: =I9 -> 0 | K9: =J9 -> 0 | L9: =K9 -> 0 | M9: =L9 -> 0 | N9: =M9 -> 0 | O9: =N9 -> 0
A10: خميرة 10ك+1.5 كرتون | B10: كرتون | F10: =E10*D10 -> 0 | G10: =F10 -> 0 | H10: =G10 -> 0 | I10: =H10 -> 0 | J10: =I10 -> 0 | K10: =J10 -> 0 | L10: =K10 -> 0 | M10: =L10 -> 0 | N10: =M10 -> 0 | O10: =N10 -> 0
A11: محسن 15ك | B11: كيس | F11: =E11*D11 -> 0 | G11: =F11 -> 0 | H11: =G11 -> 0 | I11: =H11 -> 0 | J11: =I11 -> 0 | K11: =J11 -> 0 | L11: =K11 -> 0 | M11: =L11 -> 0 | N11: =M11 -> 0 | O11: =N11 -> 0
A12: قشطه طازجة10ك | B12: سطل | F12: =E12*D12 -> 0 | G12: =F12 -> 0 | H12: =G12 -> 0 | I12: =H12 -> 0 | J12: =I12 -> 0 | K12: =J12 -> 0 | L12: =K12 -> 0 | M12: =L12 -> 0 | N12: =M12 -> 0 | O12: =N12 -> 0
A13: جوز هند9ك | B13: كيس | F13: =E13*D13 -> 0 | G13: =F13 -> 0 | H13: =G13 -> 0 | I13: =H13 -> 0 | J13: =I13 -> 0 | K13: =J13 -> 0 | L13: =K13 -> 0 | M13: =L13 -> 0 | N13: =M13 -> 0 | O13: =N13 -> 0
A14: جبن سائل6*910 جم | B14: كرتون | F14: =E14*D14 -> 0 | G14: =F14 -> 0 | H14: =G14 -> 0 | I14: =H14 -> 0 | J14: =I14 -> 0 | K14: =J14 -> 0 | L14: =K14 -> 0 | M14: =L14 -> 0 | N14: =M14 -> 0 | O14: =N14 -> 0
A15: سمسم25ك | B15: كيس | F15: =E15*D15 -> 0 | G15: =F15 -> 0 | H15: =G15 -> 0 | I15: =H15 -> 0 | J15: =I15 -> 0 | K15: =J15 -> 0 | L15: =K15 -> 0 | M15: =L15 -> 0 | N15: =M15 -> 0 | O15: =N15 -> 0
A16: حبه سوداء | B16: كيس | F16: =E16*D16 -> 0 | G16: =F16 -> 0 | H16: =G16 -> 0 | I16: =H16 -> 0 | J16: =I16 -> 0 | K16: =J16 -> 0 | L16: =K16 -> 0 | M16: =L16 -> 0 | N16: =M16 -> 0 | O16: =N16 -> 0
A17: سمن نباتي 15ك | B17: كرتون | F17: =E17*D17 -> 0 | G17: =F17 -> 0 | H17: =G17 -> 0 | I17: =H17 -> 0 | J17: =I17 -> 0 | K17: =J17 -> 0 | L17: =K17 -> 0 | M17: =L17 -> 0 | N17: =M17 -> 0 | O17: =N17 -> 0
... A22: قشطه طازجة ندى 4ك | B22: سطل | F22: =E22*D22 -> 0 | G22: =F22 -> 0 | H22: =G22 -> 0 | I22: =H22 -> 0 | J22: =I22 -> 0 | K22: =J22 -> 0 | L22: =K22 -> 0 | M22: =L22 -> 0 | N22: =M22 -> 0 | O22: =N22 -> 0
A23: إجمالي مواد خام مخبوزات | F23: =SUM(F6:F22) -> 0 | G23: =SUM(G6:G22) -> 0 | H23: =SUM(H6:H22) -> 0 | I23: =SUM(I6:I22) -> 0 | J23: =SUM(J6:J22) -> 0 | K23: =SUM(K6:K22) -> 0 | L23: =SUM(L6:L22) -> 0 | M23: =SUM(M6:M22) -> 0 | ... O23: =SUM(O6:O22) -> 0

Sheet مواد خام 6
A1: جدول رقم 18
A2: تكلفة المواد الخام للعجائن خلال السنوات من 2009 م إلى 2018 م
A3: إعداد شركة جوجان لخدمات الأعمال | D3: googanconsult.com | O3: ريال سعودي
A4: البيان | B4: الوحدة | C4: الإستهلاك | E4: السنوات
A5: المواد الخام - عجائن | C5: اليومي | D5: سنوي | E5: السعر | F5: 2009 | G5: =F5+1 -> 2010 | H5: =G5+1 -> 2011 | I5: =H5+1 -> 2012 | J5: =I5+1 -> 2013 | K5: =J5+1 -> 2014 | L5: =K5+1 -> 2015 | M5: =L5+1 -> 2016 | N5: =M5+1 -> 2017 | O5: =N5+1 -> 2018
A6: زيت نباتي16لتر | B6: كرتون | C6: 0 | D6: 0 | F6: =E6*D6 -> 0 | G6: =F6 -> 0 | H6: =G6 -> 0 | I6: =H6 -> 0 | J6: =I6 -> 0 | K6: =J6 -> 0 | L6: =K6 -> 0 | M6: =L6 -> 0 | N6: =M6 -> 0 | O6: =N6 -> 0
A7: ملح10ك | B7: كيس | C7: 0 | D7: 0 | F7: =E7*D7 -> 0 | G7: =F7 -> 0 | H7: =G7 -> 0 | I7: =H7 -> 0 | J7: =I7 -> 0 | K7: =J7 -> 0 | L7: =K7 -> 0 | M7: =L7 -> 0 | N7: =M7 -> 0 | O7: =N7 -> 0
A8: نشا25ك | B8: كيس | C8: 0 | D8: 0 | F8: =E8*D8 -> 0 | G8: =F8 -> 0 | H8: =G8 -> 0 | I8: =H8 -> 0 | J8: =I8 -> 0 | K8: =J8 -> 0 | L8: =K8 -> 0 | M8: =L8 -> 0 | N8: =M8 -> 0 | O8: =N8 -> 0
A9: حليب بودره25ك | B9: كيس | C9: 0 | D9: 0 | F9: =E9*D9 -> 0 | G9: =F9 -> 0 | H9: =G9 -> 0 | I9: =H9 -> 0 | J9: =I9 -> 0 | K9: =J9 -> 0 | L9: =K9 -> 0 | M9: =L9 -> 0 | N9: =M9 -> 0 | O9: =N9 -> 0
A10: دقيق بر45ك | B10: كيس | C10: 0 | D10: 0 | F10: =E10*D10 -> 0 | G10: =F10 -> 0 | H10: =G10 -> 0 | I10: =H10 -> 0 | J10: =I10 -> 0 | K10: =J10 -> 0 | L10: =K10 -> 0 | M10: =L10 -> 0 | N10: =M10 -> 0 | O10: =N10 -> 0
A11: دقيق ابيض45ك | B11: كيس | C11: 0 | D11: 0 | F11: =E11*D11 -> 0 | G11: =F11 -> 0 | H11: =G11 -> 0 | I11: =H11 -> 0 | J11: =I11 -> 0 | K11: =J11 -> 0 | L11: =K11 -> 0 | M11: =L11 -> 0 | N11: =M11 -> 0 | O11: =N11 -> 0
A12: إجمالي مواد خام عجائن | F12: =SUM(F6:F11) -> 0 | G12: =SUM(G6:G11) -> 0 | H12: =SUM(H6:H11) -> 0 | I12: =SUM(I6:I11) -> 0 | J12: =SUM(J6:J11) -> 0 | K12: =SUM(K6:K11) -> 0 | L12: =SUM(L6:L11) -> 0 | M12: =SUM(M6:M11) -> 0 | ... O12: =SUM(O6:O11) -> 0

Sheet مواد خام 7
A1: جدول رقم 19
A2: تكلفة المواد الخام التعبئة والتغليف كل الأقسام خلال السنوات من 2009 م إلى 2018 م
A3: إعداد شركة جوجان لخدمات الأعمال | D3: googanconsult.com | L3: ريال سعودي
A4: البيان | B4: الوحدة | C4: السنوات
A5: المواد الخام - التعبئة والتغليف لكل الأقسام | C5: 2009 | D5: =C5+1 -> 2010 | E5: =D5+1 -> 2011 | F5: =E5+1 -> 2012 | G5: =F5+1 -> 2013 | H5: =G5+1 -> 2014 | I5: =H5+1 -> 2015 | J5: =I5+1 -> 2016 | K5: =J5+1 -> 2017 | L5: =K5+1 -> 2018
A6: مواد بلاستيكية - مشروع الجواد | B6: ريال | D6: =C6 -> 0 | E6: =D6 -> 0 | F6: =E6 -> 0 | G6: =F6 -> 0 | H6: =G6 -> 0 | I6: =H6 -> 0 | J6: =I6 -> 0 | K6: =J6 -> 0 | L6: =K6 -> 0
A7: سلات وصواني - م بيت السلال | B7: ريال | D7: =C7 -> 0 | E7: =D7 -> 0 | F7: =E7 -> 0 | G7: =F7 -> 0 | H7: =G7 -> 0 | I7: =H7 -> 0 | J7: =I7 -> 0 | K7: =J7 -> 0 | L7: =K7 -> 0
A8: قصدير وفلين ومواد تغليف | B8: ريال | D8: =C8 -> 0 | E8: =D8 -> 0 | F8: =E8 -> 0 | G8: =F8 -> 0 | H8: =G8 -> 0 | I8: =H8 -> 0 | J8: =I8 -> 0 | K8: =J8 -> 0 | L8: =K8 -> 0
A9: سلات خبز - مشروع الأهلي | B9: ريال | D9: =C9 -> 0 | E9: =D9 -> 0 | F9: =E9 -> 0 | G9: =F9 -> 0 | H9: =G9 -> 0 | I9: =H9 -> 0 | J9: =I9 -> 0 | K9: =J9 -> 0 | L9: =K9 -> 0
A10: مواد بلاستيكية - مشروع خليج عربي | B10: ريال | D10: =C10 -> 0 | E10: =D10 -> 0 | F10: =E10 -> 0 | G10: =F10 -> 0 | H10: =G10 -> 0 | I10: =H10 -> 0 | J10: =I10 -> 0 | K10: =J10 -> 0 | L10: =K10 -> 0
A11: صواني إستيل - مؤسسة المعيذر | B11: ريال | D11: =C11 -> 0 | E11: =D11 -> 0 | F11: =E11 -> 0 | G11: =F11 -> 0 | H11: =G11 -> 0 | I11: =H11 -> 0 | J11: =I11 -> 0 | K11: =J11 -> 0 | L11: =K11 -> 0
A12: صواني بلاستيك - المشروع العالمي | B12: ريال | D12: =C12 -> 0 | E12: =D12 -> 0 | F12: =E12 -> 0 | G12: =F12 -> 0 | H12: =G12 -> 0 | I12: =H12 -> 0 | J12: =I12 -> 0 | K12: =J12 -> 0 | L12: =K12 -> 0
A13: مواد تغليف - مؤسسة الإبداع | B13: ريال | D13: =C13 -> 0 | E13: =D13 -> 0 | F13: =E13 -> 0 | G13: =F13 -> 0 | H13: =G13 -> 0 | I13: =H13 -> 0 | J13: =I13 -> 0 | K13: =J13 -> 0 | L13: =K13 -> 0
A14: مواد متنوعة للتعبئة والتغليف | B14: ريال | D14: =C14 -> 0 | E14: =D14 -> 0 | F14: =E14 -> 0 | G14: =F14 -> 0 | H14: =G14 -> 0 | I14: =H14 -> 0 | J14: =I14 -> 0 | K14: =J14 -> 0 | L14: =K14 -> 0
A15: إجمالي المواد الخام - التعبئة والتغليف لكل الأقسام | C15: =SUM(C6:C14) -> 0 | D15: =SUM(D6:D14) -> 0 | E15: =SUM(E6:E14) -> 0 | F15: =SUM(F6:F14) -> 0 | G15: =SUM(G6:G14) -> 0 | H15: =SUM(H6:H14) -> 0 | I15: =SUM(I6:I14) -> 0 | J15: =SUM(J6:J14) -> 0 | ... L15: =SUM(L6:L14) -> 0

Sheet إجمالي المواد الخام
B1: جدول رقم 20
B2: إجمالي تكلفة المواد الخام خلال السنوات من 2009 م إلى 2018 م
A3: إعداد شركة جوجان لخدمات الأعمال | D3: googanconsult.com | M3: ريال سعودي
A4: م | B4: البيان | C4: الوحدة | D4: السنوات
B5: البضائع | D5: 2009 | E5: =D5+1 -> 2010 | F5: =E5+1 -> 2011 | G5: =F5+1 -> 2012 | H5: =G5+1 -> 2013 | I5: =H5+1 -> 2014 | J5: =I5+1 -> 2015 | K5: =J5+1 -> 2016 | L5: =K5+1 -> 2017 | M5: =L5+1 -> 2018
A6: 1 | B6: مادة pvc | C6: ريال | D6: ='مواد خام 1'!F6 -> 0 | E6: ='مواد خام 1'!G6 -> 0 | F6: ='مواد خام 1'!H6 -> 0 | G6: ='مواد خام 1'!I6 -> 0 | H6: ='مواد خام 1'!J6 -> 0 | I6: ='مواد خام 1'!K6 -> 0 | J6: ='مواد خام 1'!L6 -> 0 | K6: ='مواد خام 1'!M6 -> 0 | ... M6: ='مواد خام 1'!O6 -> 0
A7: =A6+1 -> 2 | C7: ريال
A8: 3 | C8: ريال
B9: اجمالي البضائع | D9: =SUM(D6:D8) -> 0 | E9: =SUM(E6:E8) -> 0 | F9: =SUM(F6:F8) -> 0 | G9: =SUM(G6:G8) -> 0 | H9: =SUM(H6:H8) -> 0 | I9: =SUM(I6:I8) -> 0 | J9: =SUM(J6:J8) -> 0 | K9: =SUM(K6:K8) -> 0 | ... M9: =SUM(M6:M8) -> 0
B10: نسبة الفاقد 5% | D10: =D9*5/100 -> 0 | E10: =E9*5/100 -> 0 | F10: =F9*5/100 -> 0 | G10: =G9*5/100 -> 0 | H10: =H9*5/100 -> 0 | I10: =I9*5/100 -> 0 | J10: =J9*5/100 -> 0 | K10: =K9*5/100 -> 0 | ... M10: =M9*5/100 -> 0
B11: اجمالي البضائع متكاملة | D11: =SUM(D9:D10) -> 0 | E11: =SUM(E9:E10) -> 0 | F11: =SUM(F9:F10) -> 0 | G11: =SUM(G9:G10) -> 0 | H11: =SUM(H9:H10) -> 0 | I11: =SUM(I9:I10) -> 0 | J11: =SUM(J9:J10) -> 0 | K11: =SUM(K9:K10) -> 0 | ... M11: =SUM(M9:M10) -> 0

Sheet منافع عامة
A1: جدول رقم 21
A2: تكاليف المنافع العامة خلال السنوات من 2009 م إلى 2018 م
A3: إعداد شركة جوجان لخدمات الأعمال | D3: googanconsult.com | K3: ريال سعودي
A4: البيان | B4: السنوات
A5: تكاليف المنافع العامة | B5: 2019 | C5: =B5+1 -> 2020 | D5: =C5+1 -> 2021 | E5: =D5+1 -> 2022 | F5: =E5+1 -> 2023 | G5: =F5+1 -> 2024 | H5: =G5+1 -> 2025 | I5: =H5+1 -> 2026 | J5: =I5+1 -> 2027 | K5: =J5+1 -> 2028
A6: أ - الوقود
A7: الوقود | B7: 0 | C7: 0 | D7: 0 | E7: 0 | F7: 0 | G7: 0 | H7: 0 | I7: 0 | J7: 0 | K7: 0
A9: ب – الطاقة الكهربائية
A10: الكهرباء | B10: 7500 | C10: 7500 | D10: 7500 | E10: 7500 | F10: 7500 | G10: 7500 | H10: 7500 | I10: 7500 | J10: 7500 | K10: 7500
A12: ج- المياه
A13: المياه | B13: 5000 | C13: 5000 | D13: 5000 | E13: 5000 | F13: 5000 | G13: 5000 | H13: 5000 | I13: 5000 | J13: 5000 | K13: 5000
A14: إجمالي تكاليف المنافع العامة | B14: =SUM(B6:B13) -> 12500 | C14: =SUM(C6:C13) -> 12500 | D14: =SUM(D6:D13) -> 12500 | E14: =SUM(E6:E13) -> 12500 | F14: =SUM(F6:F13) -> 12500 | G14: =SUM(G6:G13) -> 12500 | H14: =SUM(H6:H13) -> 12500 | I14: =SUM(I6:I13) -> 12500 | ... K14: =SUM(K6:K13) -> 12500

Sheet تكلفة الصيانة
A1: جدول رقم 22
A2: تكلفة الصيانة للموجودات خلال السنوات من 2009 م إلى 2018 م
A3: إعداد شركة جوجان لخدمات الأعمال | D3: googanconsult.com | M3: ريال سعودي
A4: البيان | D4: السنوات
A5: الموجودات الثابتة | B5: التكلفة | C5: النسبة % | D5: 2009 | E5: =D5+1 -> 2010 | F5: =E5+1 -> 2011 | G5: =F5+1 -> 2012 | H5: =G5+1 -> 2013 | I5: =H5+1 -> 2014 | J5: =I5+1 -> 2015 | K5: =J5+1 -> 2016 | L5: =K5+1 -> 2017 | M5: =L5+1 -> 2018
D6: =C6*B6 -> 0 | E6: =D6 -> 0 | F6: =E6 -> 0 | G6: =F6 -> 0 | H6: =G6 -> 0 | I6: =H6 -> 0 | J6: =I6 -> 0 | K6: =J6 -> 0 | L6: =K6 -> 0 | M6: =L6 -> 0
A7: الآلات والمعدات | B7: ='تكلفة المعدات'!D6 -> 200000 | C7: 0.05 | D7: =C7*B7 -> 10000 | E7: =D7 -> 10000 | F7: =E7 -> 10000 | G7: =F7 -> 10000 | H7: =G7 -> 10000 | I7: =H7 -> 10000 | J7: =I7 -> 10000 | K7: =J7 -> 10000 | L7: =K7 -> 10000 | M7: =L7 -> 10000
B8: ='تكلفة السيارات ووسائل النقل'!D6 -> 0 | D8: =C8*B8 -> 0 | E8: =D8 -> 0 | F8: =E8 -> 0 | G8: =F8 -> 0 | H8: =G8 -> 0 | I8: =H8 -> 0 | J8: =I8 -> 0 | K8: =J8 -> 0 | L8: =K8 -> 0 | M8: =L8 -> 0
B9: ='تكلفة الأجهزة واالأثاث'!D6 -> 0 | D9: =C9*B9 -> 0 | E9: =D9 -> 0 | F9: =E9 -> 0 | G9: =F9 -> 0 | H9: =G9 -> 0 | I9: =H9 -> 0 | J9: =I9 -> 0 | K9: =J9 -> 0 | L9: =K9 -> 0 | M9: =L9 -> 0
A10: مبلغ الصيانة السنوي | B10: =SUM(B6:B9) -> 200000 | D10: =SUM(D6:D9) -> 10000 | E10: =SUM(E6:E9) -> 10000 | F10: =SUM(F6:F9) -> 10000 | G10: =SUM(G6:G9) -> 10000 | H10: =SUM(H6:H9) -> 10000 | I10: =SUM(I6:I9) -> 10000 | J10: =SUM(J6:J9) -> 10000 | K10: =SUM(K6:K9) -> 10000 | ... M10: =SUM(M6:M9) -> 10000

Sheet تكلفة التأمين
A1: جدول رقم 23
A2: تكلفة التأمين للموجودات خلال السنوات من 2009 م إلى 2018 م
A3: إعداد شركة جوجان لخدمات الأعمال | D3: googanconsult.com | M3: ريال سعودي
A4: البيان | D4: السنوات
A5: الموجودات الثابتة | B5: التكلفة | C5: النسبة % | D5: 2009 | E5: =D5+1 -> 2010 | F5: =E5+1 -> 2011 | G5: =F5+1 -> 2012 | H5: =G5+1 -> 2013 | I5: =H5+1 -> 2014 | J5: =I5+1 -> 2015 | K5: =J5+1 -> 2016 | L5: =K5+1 -> 2017 | M5: =L5+1 -> 2018
A7: الآلات والمعدات | B7: 0 | C7: 0.01 | D7: =C7*B7 -> 0 | E7: =D7 -> 0 | F7: =E7 -> 0 | G7: =F7 -> 0 | H7: =G7 -> 0 | I7: =H7 -> 0 | J7: =I7 -> 0 | K7: =J7 -> 0 | L7: =K7 -> 0 | M7: =L7 -> 0
A8: وسائل النقل والانتقال | B8: ='تكلفة السيارات ووسائل النقل'!D6 -> 0 | C8: 0.01 | D8: =C8*B8 -> 0 | E8: =D8 -> 0 | F8: =E8 -> 0 | G8: =F8 -> 0 | H8: =G8 -> 0 | I8: =H8 -> 0 | J8: =I8 -> 0 | K8: =J8 -> 0 | L8: =K8 -> 0 | M8: =L8 -> 0
A9: الأثاث والتجهيزات المكتبية | B9: ='تكلفة الأجهزة واالأثاث'!D6 -> 0 | C9: 0.01 | D9: =C9*B9 -> 0 | E9: =D9 -> 0 | F9: =E9 -> 0 | G9: =F9 -> 0 | H9: =G9 -> 0 | I9: =H9 -> 0 | J9: =I9 -> 0 | K9: =J9 -> 0 | L9: =K9 -> 0 | M9: =L9 -> 0
A10: مبلغ التأمين السنوي | B10: =SUM(B6:B9) -> 0 | D10: =SUM(D6:D9) -> 0 | E10: =SUM(E6:E9) -> 0 | F10: =SUM(F6:F9) -> 0 | G10: =SUM(G6:G9) -> 0 | H10: =SUM(H6:H9) -> 0 | I10: =SUM(I6:I9) -> 0 | J10: =SUM(J6:J9) -> 0 | K10: =SUM(K6:K9) -> 0 | ... M10: =SUM(M6:M9) -> 0

Sheet م.عمومية وإدارية
A1: جدول رقم 24
A2: المصاريف العمومية والإدارية خلال السنوات من 2009 م إلى 2018 م
A3: إعداد شركة جوجان لخدمات الأعمال | D3: googanconsult.com | L3: ريال سعودي
A4: البيان | C4: السنوات
A5: المصاريف العمومية والإدارية | B5: التكلفة | C5: 2009 | D5: =C5+1 -> 2010 | E5: =D5+1 -> 2011 | F5: =E5+1 -> 2012 | G5: =F5+1 -> 2013 | H5: =G5+1 -> 2014 | I5: =H5+1 -> 2015 | J5: =I5+1 -> 2016 | K5: =J5+1 -> 2017 | L5: =K5+1 -> 2018
A7: جوالات | B7: 200 | C7: =B7 -> 200 | D7: =C7 -> 200 | E7: =D7 -> 200 | F7: =E7 -> 200 | G7: =F7 -> 200 | H7: =G7 -> 200 | I7: =H7 -> 200 | J7: =I7 -> 200 | ... L7: =K7 -> 200
A8: قرطاسية ومطبوعات | B8: 300 | C8: =B8 -> 300 | D8: =C8 -> 300 | E8: =D8 -> 300 | F8: =E8 -> 300 | G8: =F8 -> 300 | H8: =G8 -> 300 | I8: =H8 -> 300 | J8: =I8 -> 300 | ... L8: =K8 -> 300
A13: الإجمالي | B13: =SUM(B6:B12) -> 500 | C13: =SUM(C6:C12) -> 500 | D13: =SUM(D6:D12) -> 500 | E13: =SUM(E6:E12) -> 500 | F13: =SUM(F6:F12) -> 500 | G13: =SUM(G6:G12) -> 500 | H13: =SUM(H6:H12) -> 500 | I13: =SUM(I6:I12) -> 500 | ... L13: =SUM(L6:L12) -> 500

Sheet م.التسويق
A1: جدول رقم 25
A2: مصاريف التسويق خلال السنوات من 2019 م إلى 2028 م
A3: إعداد شركة جوجان لخدمات الأعمال | D3: googanconsult.com | L3: ريال سعودي
A4: البيان | C4: السنوات
A5: مصاريف التسويق | B5: التكلفة | C5: 2019 | D5: =C5+1 -> 2020 | E5: =D5+1 -> 2021 | F5: =E5+1 -> 2022 | G5: =F5+1 -> 2023 | H5: =G5+1 -> 2024 | I5: =H5+1 -> 2025 | J5: =I5+1 -> 2026 | K5: =J5+1 -> 2027 | L5: =K5+1 -> 2028
A6: مصاريف تسويق | B6: 1000 | C6: =B6 -> 1000 | D6: =C6 -> 1000 | E6: =D6 -> 1000 | F6: =E6 -> 1000 | G6: =F6 -> 1000 | H6: =G6 -> 1000 | I6: =H6 -> 1000 | J6: =I6 -> 1000 | ... L6: =K6 -> 1000
A10: الإجمالي | B10: =SUM(B6:B9) -> 1000 | C10: =SUM(C6:C9) -> 1000 | D10: =SUM(D6:D9) -> 1000 | E10: =SUM(E6:E9) -> 1000 | F10: =SUM(F6:F9) -> 1000 | G10: =SUM(G6:G9) -> 1000 | H10: =SUM(H6:H9) -> 1000 | I10: =SUM(I6:I9) -> 1000 | ... L10: =SUM(L6:L9) -> 1000

Sheet م. الإهلاك
A1: جدول رقم 26
A2: إستهلاك الموجودات الثابتة خلال السنوات من 2019 م إلى 2028 م
A3: إعداد شركة جوجان لخدمات الأعمال | D3: googanconsult.com | M3: ريال سعودي
A4: البيان | D4: السنوات
A5: الموجودات الثابتة | B5: التكلفة | C5: النسبة % | D5: 2019 | E5: =D5+1 -> 2020 | F5: =E5+1 -> 2021 | G5: =F5+1 -> 2022 | H5: =G5+1 -> 2023 | I5: =H5+1 -> 2024 | J5: =I5+1 -> 2025 | K5: =J5+1 -> 2026 | L5: =K5+1 -> 2027 | M5: =L5+1 -> 2028
A7: الآلات والمعدات | B7: ='تكلفة المعدات'!D6 -> 200000 | C7: 0.1 | D7: =C7*B7 -> 20000 | E7: =D7 -> 20000 | F7: =E7 -> 20000 | G7: =F7 -> 20000 | H7: =G7 -> 20000 | I7: =H7 -> 20000 | J7: =I7 -> 20000 | K7: =J7 -> 20000 | L7: =K7 -> 20000 | M7: =L7 -> 20000
A10: مصاريف التأسيس | B10: ='رأس مال ثابت'!B11 -> 96000 | C10: 1 | D10: =C10*B10 -> 96000 | E10: 0 | F10: =E10 -> 0 | G10: =F10 -> 0 | H10: =G10 -> 0 | I10: =H10 -> 0 | J10: =I10 -> 0 | K10: =J10 -> 0 | L10: =K10 -> 0 | M10: =L10 -> 0
A11: الإجمالي | B11: =SUM(B6:B10) -> 296000 | D11: =SUM(D6:D10) -> 116000 | E11: =SUM(E6:E10) -> 20000 | F11: =SUM(F6:F10) -> 20000 | G11: =SUM(G6:G10) -> 20000 | H11: =SUM(H6:H10) -> 20000 | I11: =SUM(I6:I10) -> 20000 | J11: =SUM(J6:J10) -> 20000 | K11: =SUM(K6:K10) -> 20000 | ... M11: =SUM(M6:M10) -> 20000

Sheet م. تشغيل سنوية
A1: جدول رقم 27
A2: إجمالي مصاريف التشغيل السنوية خلال السنوات من 2009 م إلى 2018 م
A3: إعداد شركة جوجان لخدمات الأعمال | D3: googanconsult.com | K3: ريال سعودي
A4: البيان | B4: السنوات
A5: مصاريف التشغيل السنوية | B5: 2019 | C5: =B5+1 -> 2020 | D5: =C5+1 -> 2021 | E5: =D5+1 -> 2022 | F5: =E5+1 -> 2023 | G5: =F5+1 -> 2024 | H5: =G5+1 -> 2025 | I5: =H5+1 -> 2026 | J5: =I5+1 -> 2027 | K5: =J5+1 -> 2028
A6: الرواتب والأجور | B6: =الرواتب!D24 -> 10800 | C6: =الرواتب!E24 -> 10800 | D6: =الرواتب!F24 -> 10800 | E6: =الرواتب!G24 -> 10800 | F6: =الرواتب!H24 -> 10800 | G6: =الرواتب!I24 -> 10800 | H6: =الرواتب!J24 -> 10800 | I6: =الرواتب!K24 -> 10800 | ... K6: =الرواتب!M24 -> 10800
A7: المنافع العامة | B7: ='منافع عامة'!B14 -> 12500 | C7: ='منافع عامة'!C14 -> 12500 | D7: ='منافع عامة'!D14 -> 12500 | E7: ='منافع عامة'!E14 -> 12500 | F7: ='منافع عامة'!F14 -> 12500 | G7: ='منافع عامة'!G14 -> 12500 | H7: ='منافع عامة'!H14 -> 12500 | I7: ='منافع عامة'!I14 -> 12500 | ... K7: ='منافع عامة'!K14 -> 12500
A8: تكاليف الصيانة | B8: ='تكلفة الصيانة'!D10 -> 10000 | C8: ='تكلفة الصيانة'!E10 -> 10000 | D8: ='تكلفة الصيانة'!F10 -> 10000 | E8: ='تكلفة الصيانة'!G10 -> 10000 | F8: ='تكلفة الصيانة'!H10 -> 10000 | G8: ='تكلفة الصيانة'!I10 -> 10000 | H8: ='تكلفة الصيانة'!J10 -> 10000 | I8: ='تكلفة الصيانة'!K10 -> 10000 | ... K8: ='تكلفة الصيانة'!M10 -> 10000
A9: المصاريف الإدارية والعمومية | B9: ='م.عمومية وإدارية'!C13 -> 500 | C9: ='م.عمومية وإدارية'!D13 -> 500 | D9: ='م.عمومية وإدارية'!E13 -> 500 | E9: ='م.عمومية وإدارية'!F13 -> 500 | F9: ='م.عمومية وإدارية'!G13 -> 500 | G9: ='م.عمومية وإدارية'!H13 -> 500 | H9: ='م.عمومية وإدارية'!I13 -> 500 | I9: ='م.عمومية وإدارية'!J13 -> 500 | ... K9: ='م.عمومية وإدارية'!L13 -> 500
A10: المصاريف التسويقية | B10: ='م.التسويق'!C10 -> 1000 | C10: ='م.التسويق'!D10 -> 1000 | D10: ='م.التسويق'!E10 -> 1000 | E10: ='م.التسويق'!F10 -> 1000 | F10: ='م.التسويق'!G10 -> 1000 | G10: ='م.التسويق'!H10 -> 1000 | H10: ='م.التسويق'!I10 -> 1000 | I10: ='م.التسويق'!J10 -> 1000 | ... K10: ='م.التسويق'!L10 -> 1000
A11: الاستهلاك | B11: ='م. الإهلاك'!D11 -> 116000 | C11: ='م. الإهلاك'!E11 -> 20000 | D11: ='م. الإهلاك'!F11 -> 20000 | E11: ='م. الإهلاك'!G11 -> 20000 | F11: ='م. الإهلاك'!H11 -> 20000 | G11: ='م. الإهلاك'!I11 -> 20000 | H11: ='م. الإهلاك'!J11 -> 20000 | I11: ='م. الإهلاك'!K11 -> 20000 | ... K11: ='م. الإهلاك'!M11 -> 20000
A12: الإجمالي | B12: =SUM(B6:B11) -> 150800 | C12: =SUM(C6:C11) -> 54800 | D12: =SUM(D6:D11) -> 54800 | E12: =SUM(E6:E11) -> 54800 | F12: =SUM(F6:F11) -> 54800 | G12: =SUM(G6:G11) -> 54800 | H12: =SUM(H6:H11) -> 54800 | I12: =SUM(I6:I11) -> 54800 | ... K12: =SUM(K6:K11) -> 54800

Sheet م.التشغيل المالية100%
A1: جدول رقم 28
A2: مجموع مصاريف التشغيل السنوية خلال السنوات من 2019 م إلى 2028 م
A3: إعداد شركة جوجان لخدمات الأعمال | D3: googanconsult.com | L3: ريال سعودي
A4: البيان | B4: نسب التحميل | C4: السنوات
A5: المصاريف المتغيرة | C5: 2019 | D5: =C5+1 -> 2020 | E5: =D5+1 -> 2021 | F5: =E5+1 -> 2022 | G5: =F5+1 -> 2023 | H5: =G5+1 -> 2024 | I5: =H5+1 -> 2025 | J5: =I5+1 -> 2026 | K5: =J5+1 -> 2027 | L5: =K5+1 -> 2028
A6: رواتب العاملين | B6: 1 | C6: =B6*الرواتب!D23 -> 0 | D6: =B6*الرواتب!E23 -> 0 | E6: =B6*الرواتب!F23 -> 0 | F6: =B6*الرواتب!G23 -> 0 | G6: =B6*الرواتب!H23 -> 0 | H6: =B6*الرواتب!I23 -> 0 | I6: =B6*الرواتب!J23 -> 0 | J6: =B6*الرواتب!K23 -> 0 | K6: =B6*الرواتب!L23 -> 0 | L6: =B6*الرواتب!M23 -> 0
A7: مواد خام ومواد تعبئة وتغليف | B7: 0.7 | C7: =B7*'إجمالي المواد الخام'!D11 -> 0 | D7: =B7*'إجمالي المواد الخام'!E11 -> 0 | E7: =B7*'إجمالي المواد الخام'!F11 -> 0 | F7: =B7*'إجمالي المواد الخام'!G11 -> 0 | G7: =B7*'إجمالي المواد الخام'!H11 -> 0 | H7: =B7*'إجمالي المواد الخام'!I11 -> 0 | I7: =B7*'إجمالي المواد الخام'!J11 -> 0 | J7: =B7*'إجمالي المواد الخام'!K11 -> 0 | K7: =B7*'إجمالي المواد الخام'!L11 -> 0 | L7: =B7*'إجمالي المواد الخام'!M11 -> 0
A8: المنافع العامة | B8: 0.7 | C8: =B8*'منافع عامة'!B14 -> 8750 | D8: =B8*'منافع عامة'!C14 -> 8750 | E8: =B8*'منافع عامة'!D14 -> 8750 | F8: =B8*'منافع عامة'!E14 -> 8750 | G8: =B8*'منافع عامة'!F14 -> 8750 | H8: =B8*'منافع عامة'!G14 -> 8750 | I8: =B8*'منافع عامة'!H14 -> 8750 | J8: =B8*'منافع عامة'!I14 -> 8750 | K8: =B8*'منافع عامة'!J14 -> 8750 | L8: =B8*'منافع عامة'!K14 -> 8750
